BEGIN:VCALENDAR
VERSION:2.0
PRODID:-//Jewish Federation of Omaha - ECPv6.15.20//NONSGML v1.0//EN
CALSCALE:GREGORIAN
METHOD:PUBLISH
X-ORIGINAL-URL:https://www.jewishomaha.org
X-WR-CALDESC:Events for Jewish Federation of Omaha
REFRESH-INTERVAL;VALUE=DURATION:PT1H
X-Robots-Tag:noindex
X-PUBLISHED-TTL:PT1H
BEGIN:VTIMEZONE
TZID:UTC
BEGIN:STANDARD
TZOFFSETFROM:+0000
TZOFFSETTO:+0000
TZNAME:UTC
DTSTART:20250101T000000
END:STANDARD
END:VTIMEZONE
BEGIN:VEVENT
DTSTART;TZID=UTC:20260203T110000
DTEND;TZID=UTC:20260203T123000
DTSTAMP:20260424T153451
CREATED:20251230T172328Z
LAST-MODIFIED:20260108T193735Z
UID:6766-1770116400-1770121800@www.jewishomaha.org
SUMMARY:Ethical & Living Will Workshop with Rabbi Deana Berezin
DESCRIPTION:Ethical & Living Will Workshop with Rabbi Deana Berezin \nFebruary 3rd & 10th\n11:00 am-12:30 pm\nMust attend both sessions \nLearn how to create a meaningful ethical will that preserves your values\, memories\, and life lessons for future generations.\nExplore living wills through the lens of Jewish texts and traditions\, offering guidance on thoughtful and compassionate end-of-life decision-making. \nRegister
URL:https://www.jewishomaha.org/event/ethical-living-will-workshop-with-rabbi-deana-berezin/
LOCATION:Temple Israel Synagogue\, 13111 Sterling Ridge Drive\, Omaha\, NE\, 68144
ATTACH;FMTTYPE=image/jpeg:https://www.jewishomaha.org/wp-content/uploads/2025/12/Ethical-Will-Workshop_BAGA-1.jpg
END:VEVENT
BEGIN:VEVENT
DTSTART;TZID=UTC:20260203T180000
DTEND;TZID=UTC:20260203T200000
DTSTAMP:20260424T153451
CREATED:20260123T221610Z
LAST-MODIFIED:20260123T221702Z
UID:6874-1770141600-1770148800@www.jewishomaha.org
SUMMARY:NextGen First Tuesday - Mixology
DESCRIPTION:First Tuesday isn’t just about getting together—it’s also an excuse to try new things and explore new venues in Omaha. If you’re a young adult looking to connect\, consider this your invitation! Join us for a hands‑on mixology class where you’ll learn the art of crafting delicious cocktails and mocktails. \nCost: $18/person (Includes 3 drinks)\nRegister
URL:https://www.jewishomaha.org/event/nextgen-first-tuesday-mixology/
LOCATION:Shirley & Leonard Goldstein Community Engagement Venue\, 333 S. 132nd St.\, Omaha\, NE\, 68154
ATTACH;FMTTYPE=image/jpeg:https://www.jewishomaha.org/wp-content/uploads/2025/12/First-Tuesdays-2026.jpg
END:VEVENT
BEGIN:VEVENT
DTSTART;TZID=UTC:20260206T113000
DTEND;TZID=UTC:20260206T130000
DTSTAMP:20260424T153451
CREATED:20251230T182427Z
LAST-MODIFIED:20251230T182427Z
UID:6779-1770377400-1770382800@www.jewishomaha.org
SUMMARY:Star Kosher Deli
DESCRIPTION:Open for in-person dining today at the Rose Blumkin Jewish Home – 323 S 132nd St \nToday’s Special: Smoked Prime Rib  \nView Menu\nStar Deli dishes up (among other delights) overstuffed corned beef\, pastrami and smoked turkey sandwiches\, matzah ball soup\, salad platters\, Dr. Brown’s assorted sodas\, plus toothsome desserts and specials like Prime Rib\, Chicken Pot Pie\, Smoked Brisket\, and Chili with Cornbread. We also sell delectable Glatt Kosher meats by the pound. The Deli welcomes everyone in the Jewish community and the larger Omaha area community to join us for lunch. \nFor more information about Star Catering or to pre-order take-out from the Kosher Deli at the Rose Blumkin Jewish Home\, please email Jennifer Addison at jaddison@rbjh.com
URL:https://www.jewishomaha.org/event/star-kosher-deli-2/
LOCATION:Rose Blumkin Jewish Home\, 323 South 132nd Street\, Omaha\, 68154\, United States
ATTACH;FMTTYPE=image/jpeg:https://www.jewishomaha.org/wp-content/uploads/2025/02/Deli-Open.jpg
END:VEVENT
BEGIN:VEVENT
DTSTART;TZID=UTC:20260210T110000
DTEND;TZID=UTC:20260210T123000
DTSTAMP:20260424T153451
CREATED:20251230T172526Z
LAST-MODIFIED:20251230T173359Z
UID:6769-1770721200-1770726600@www.jewishomaha.org
SUMMARY:Session 2: Ethical & Living Will Workshop with Rabbi Deana Berezin
DESCRIPTION:Ethical & Living Will Workshop with Rabbi Deana Berezin \nFebruary 3rd & 10th\n11:00 am-12:30 pm\nMust attend both sessions \nLearn how to create a meaningful ethical will that preserves your values\, memories\, and life lessons for future generations.\nExplore living wills through the lens of Jewish texts and traditions\, offering guidance on thoughtful and compassionate end-of-life decision-making.
URL:https://www.jewishomaha.org/event/6769/
LOCATION:Temple Israel Synagogue\, 13111 Sterling Ridge Drive\, Omaha\, NE\, 68144
ATTACH;FMTTYPE=image/jpeg:https://www.jewishomaha.org/wp-content/uploads/2025/12/Ethical-Will-Workshop_BAGA.jpg
END:VEVENT
BEGIN:VEVENT
DTSTART;TZID=UTC:20260218T120000
DTEND;TZID=UTC:20260218T130000
DTSTAMP:20260424T153451
CREATED:20251114T194458Z
LAST-MODIFIED:20260320T221550Z
UID:6594-1771416000-1771419600@www.jewishomaha.org
SUMMARY:Omaha Beit Midrash: Rabbi Benjamin Sharff
DESCRIPTION:February 18 | Rabbi Benjamin Sharff of Temple Israel\n12:00-1:00 pm\nAll sessions are held at the Staenberg Omaha JCC. Light Kosher lunch served at each session. No cost to attend.\nDrop in for one session\, or become a regular attendee – everyone is welcome. \nBeit Midrash (house of study) gives all of Jewish Omaha the opportunity to engage in spirited and challenging cross-denominational study with local rabbis and cantors. This space fosters discussion and friendly debate\, allowing students and teachers to share ideas and deepen their understanding of Jewish teachings. Such a communal learning environment is essential for personal growth and the preservation of Jewish traditions. \nDuring each Beit Midrash\, a different clergy member from our community synagogues will select and present a pertinent topic of their choice. \nREGISTER HERE\nYou may fill out this form as many times necessary to register for additional dates. \nQuestions? Contact Naomi Fox\, Director of Community Engagement & Education\, at nfox@jewishomaha.org or 402.334.6424.
URL:https://www.jewishomaha.org/event/omaha-beit-midrash-2-18-26/
LOCATION:Staenberg Kooper Fellman Campus\, 333 S. 132nd St.\, Omaha\, NE\, 68154
ATTACH;FMTTYPE=image/jpeg:https://www.jewishomaha.org/wp-content/uploads/2025/11/Beit-Midrash-FB-Event-Cover-2-18-26.jpg
END:VEVENT
BEGIN:VEVENT
DTSTART;VALUE=DATE:20260220
DTEND;VALUE=DATE:20260221
DTSTAMP:20260424T153451
CREATED:20260219T235645Z
LAST-MODIFIED:20260220T024130Z
UID:6929-1771545600-1771631999@www.jewishomaha.org
SUMMARY:Postponed - Bagels and Business Breakfast featuring Tamara Draeger
DESCRIPTION:Due to inclement weather\, this event has been postponed. A new date will be announced soon. Please watch your email for further updates.\nWe appreciate your understanding.\n  \n 
URL:https://www.jewishomaha.org/event/bagels-and-business-breakfast-featuring-tamara-draeger/
ATTACH;FMTTYPE=image/jpeg:https://www.jewishomaha.org/wp-content/uploads/2026/02/JBL-Feb-20.jpg
END:VEVENT
BEGIN:VEVENT
DTSTART;TZID=UTC:20260220T113000
DTEND;TZID=UTC:20260220T130000
DTSTAMP:20260424T153451
CREATED:20251230T182618Z
LAST-MODIFIED:20251230T182618Z
UID:6781-1771587000-1771592400@www.jewishomaha.org
SUMMARY:Star Kosher Deli
DESCRIPTION:Open for in-person dining today at the Rose Blumkin Jewish Home – 323 S 132nd St \nToday’s Special: Schnitzel  \nView Menu\nStar Deli dishes up (among other delights) overstuffed corned beef\, pastrami and smoked turkey sandwiches\, matzah ball soup\, salad platters\, Dr. Brown’s assorted sodas\, plus toothsome desserts and specials like Prime Rib\, Chicken Pot Pie\, Smoked Brisket\, and Chili with Cornbread. We also sell delectable Glatt Kosher meats by the pound. The Deli welcomes everyone in the Jewish community and the larger Omaha area community to join us for lunch. \nFor more information about Star Catering or to pre-order take-out from the Kosher Deli at the Rose Blumkin Jewish Home\, please email Jennifer Addison at jaddison@rbjh.com
URL:https://www.jewishomaha.org/event/star-kosher-deli-3/
LOCATION:Rose Blumkin Jewish Home\, 323 South 132nd Street\, Omaha\, 68154\, United States
ATTACH;FMTTYPE=image/jpeg:https://www.jewishomaha.org/wp-content/uploads/2025/02/Deli-Open.jpg
END:VEVENT
END:VCALENDAR