BEGIN:VCALENDAR
VERSION:2.0
PRODID:-//Jewish Federation of Omaha - ECPv6.15.20//NONSGML v1.0//EN
CALSCALE:GREGORIAN
METHOD:PUBLISH
X-WR-CALNAME:Jewish Federation of Omaha
X-ORIGINAL-URL:https://www.jewishomaha.org
X-WR-CALDESC:Events for Jewish Federation of Omaha
REFRESH-INTERVAL;VALUE=DURATION:PT1H
X-Robots-Tag:noindex
X-PUBLISHED-TTL:PT1H
BEGIN:VTIMEZONE
TZID:UTC
BEGIN:STANDARD
TZOFFSETFROM:+0000
TZOFFSETTO:+0000
TZNAME:UTC
DTSTART:20240101T000000
END:STANDARD
END:VTIMEZONE
BEGIN:VEVENT
DTSTART;TZID=UTC:20251102T170000
DTEND;TZID=UTC:20251102T170000
DTSTAMP:20260424T154644
CREATED:20251020T232005Z
LAST-MODIFIED:20251020T232153Z
UID:6441-1762102800-1762102800@www.jewishomaha.org
SUMMARY:TORN: The Israel-Palestine Poster War - Documentary Screening & Panel Discussion
DESCRIPTION:A prelude to this year’s Omaha Jewish Film Festival\n“TORN: The Israel-Palestine Poster War on NYC Streets”\nNovember 2  |  5:00 pm \nPlease join us for a screening and panel discussion featuring TORN. The acclaimed documentary explores how New York City became a symbolic battleground after Hamas kidnapped 251 people from Israel on October 7. As Israel’s war in Gaza unfolded\, a conflict thousands of miles away erupted on New York’s walls. Watch the trailer. This trailer and film contain strong language. Viewer discretion advised. \nFollowing the film\, join us for an in-person discussion with: \n\nNim Shapira — director\, producer and writer\nDede BandAid & Nitzan Mintz — artists and creators of the posters\n\nThis event is free to attend\, but registration is required. RSVP HERE. \n  \nThe film is presented with the financial assistance of Susie Noddle and John Ziegelman and The Gertrude T. & Albert B. Newman Endowment Fund.
URL:https://www.jewishomaha.org/event/torn-the-israel-palestine-poster-war-documentary-screening-panel-discussion/
LOCATION:Alan J. Levine Performing Arts Theater\, 333 S. 132nd St.\, Omaha\, NE\, 68154
ATTACH;FMTTYPE=image/jpeg:https://www.jewishomaha.org/wp-content/uploads/2025/10/TORN-screening.jpg
END:VEVENT
BEGIN:VEVENT
DTSTART;TZID=UTC:20251109T180000
DTEND;TZID=UTC:20251109T210000
DTSTAMP:20260424T154644
CREATED:20251021T142743Z
LAST-MODIFIED:20251021T202620Z
UID:6445-1762711200-1762722000@www.jewishomaha.org
SUMMARY:Omaha Jewish Film Festival | Bad Shabbos
DESCRIPTION:Nov. 9 – Bad Shabbos\nHosted by Rachel & Daniel Grossman. \nDavid and his fiancée Meg are about to have their parents meet for the first time over a Shabbat dinner on New York’s Upper West Side when an accidental death (or murder?) gets in the way. With Meg’s Catholic parents due any moment\, this family dinner soon spirals into a hilarious disaster. \nKyra Sedgwick and Cliff “Method Man” Smith lead an incredible ensemble cast in the uproarious new comedy BAD SHABBOS\, winner of the Audience Award for Best Narrative at the Tribeca Film Festival! \nWhether you’re a film enthusiast\, someone who enjoys the latest Jewish-themed films\, or someone looking for an entertaining night out\, the Omaha Jewish Film Festival promises to provide you with a fulfilling cinematic experience and free popcorn. \n\nTICKETS – Purchase Pass\n4 Ticket Pass $15\n8 Ticket Pass $25\nSingle Ticket at door $5 \nPasses may be used for any combination of people and/or film admissions. \n\n\nThank you to the financial supporters of the 2025 Omaha Jewish Film Festival:\nLois Jeanne Schrager Memorial Fund\, Fran and Rich Juro Endowment Fund for the Federation\, Etta and Harold Epstein Security Fund\, Ruth Frisch & Oscar S. Belzer Endowment Fund\, Special Donor-Advised Fund of the JFO Foundation\, and the Klutznick Custodial Fund and the Miller Film Fund by Lindsey Miller-Lerman in memory of her parents Avy and Roberta Miller. Further supported by the B’nai B’rith Henry Monsky Lodge and our corporate sponsor\, First National Bank of Omaha.
URL:https://www.jewishomaha.org/event/omaha-jewish-film-festival-bad-shabbos/
LOCATION:Alan J. Levine Performing Arts Theater\, 333 S. 132nd St.\, Omaha\, NE\, 68154
ATTACH;FMTTYPE=image/jpeg:https://www.jewishomaha.org/wp-content/uploads/2025/10/2025-Film-Festival-cards.jpg
END:VEVENT
BEGIN:VEVENT
DTSTART;TZID=UTC:20251110T180000
DTEND;TZID=UTC:20251110T210000
DTSTAMP:20260424T154644
CREATED:20251021T143216Z
LAST-MODIFIED:20251021T202113Z
UID:6463-1762797600-1762808400@www.jewishomaha.org
SUMMARY:Omaha Jewish Film Festival | Swedishkayt: YidLife Crisis in Stockholm
DESCRIPTION:Nov. 10 – Swedishkayt: YidLife Crisis in Stockholm\nHosted by David Finkelstein \nGet ready to laugh and kvell with Swedishkayt: YidLife Crisis in Stockholm as self-proclaimed international Yiddish-ish icons YidLife Crisis—comedy duo Eli Batalion and Jamie Elman—bravely step onto Swedish soil to unearth a hidden treasure trove of Jewish culture. From the moment they arrive in Stockholm\, our heroes\, like gefilte fish out of water\, prepare for a big live show while unraveling the little-known history of Sweden’s Jewish community in their hilarious and heartfelt journey. \nWhether you’re a film enthusiast\, someone who enjoys the latest Jewish-themed films\, or someone looking for an entertaining night out\, the Omaha Jewish Film Festival promises to provide you with a fulfilling cinematic experience and free popcorn. \n\nTICKETS – Purchase Pass\n4 Ticket Pass $15\n8 Ticket Pass $25\nSingle Ticket at door $5 \nPasses may be used for any combination of people and/or film admissions. \n\n\nThank you to the financial supporters of the 2025 Omaha Jewish Film Festival:\nLois Jeanne Schrager Memorial Fund\, Fran and Rich Juro Endowment Fund for the Federation\, Etta and Harold Epstein Security Fund\, Ruth Frisch & Oscar S. Belzer Endowment Fund\, Special Donor-Advised Fund of the JFO Foundation\, and the Klutznick Custodial Fund and the Miller Film Fund by Lindsey Miller-Lerman in memory of her parents Avy and Roberta Miller. Further supported by the B’nai B’rith Henry Monsky Lodge and our corporate sponsor\, First National Bank of Omaha.
URL:https://www.jewishomaha.org/event/omaha-jewish-film-festival-swedishkayt-yidlife-crisis/
LOCATION:Alan J. Levine Performing Arts Theater\, 333 S. 132nd St.\, Omaha\, NE\, 68154
ATTACH;FMTTYPE=image/jpeg:https://www.jewishomaha.org/wp-content/uploads/2025/10/2025-Film-Festival-cards3.jpg
END:VEVENT
BEGIN:VEVENT
DTSTART;TZID=UTC:20251111T180000
DTEND;TZID=UTC:20251111T210000
DTSTAMP:20260424T154644
CREATED:20251021T143849Z
LAST-MODIFIED:20251021T202048Z
UID:6468-1762884000-1762894800@www.jewishomaha.org
SUMMARY:Omaha Jewish Film Festival | Matchmaking2
DESCRIPTION:Nov. 11 – Matchmaking 2\nHosted by Patty and Steve Nogg. \nBaruch\, a Yeshiva student who missed every opportunity to marry\, is left to live in a small room in the Yeshiva where he studies and serves as the faithful assistant to the matchmaker\, Malki. From there it gets humorously complicated. \nWhether you’re a film enthusiast\, someone who enjoys the latest Jewish-themed films\, or someone looking for an entertaining night out\, the Omaha Jewish Film Festival promises to provide you with a fulfilling cinematic experience and free popcorn. \n\nTICKETS – Purchase Pass\n4 Ticket Pass $15\n8 Ticket Pass  $25\nSingle Ticket at door $5 \nPasses may be used for any combination of people and/or film admissions. \n\n\nThank you to the financial supporters of the 2025 Omaha Jewish Film Festival:\nLois Jeanne Schrager Memorial Fund\, Fran and Rich Juro Endowment Fund for the Federation\, Etta and Harold Epstein Security Fund\, Ruth Frisch & Oscar S. Belzer Endowment Fund\, Special Donor-Advised Fund of the JFO Foundation\, and the Klutznick Custodial Fund and the Miller Film Fund by Lindsey Miller-Lerman in memory of her parents Avy and Roberta Miller. Further supported by the B’nai B’rith Henry Monsky Lodge and our corporate sponsor\, First National Bank of Omaha.
URL:https://www.jewishomaha.org/event/omaha-jewish-film-festival-matchmaking2/
LOCATION:Alan J. Levine Performing Arts Theater\, 333 S. 132nd St.\, Omaha\, NE\, 68154
ATTACH;FMTTYPE=image/jpeg:https://www.jewishomaha.org/wp-content/uploads/2025/10/2025-Film-Festival-cards2.jpg
END:VEVENT
BEGIN:VEVENT
DTSTART;TZID=UTC:20251112T180000
DTEND;TZID=UTC:20251112T210000
DTSTAMP:20260424T154644
CREATED:20251021T203009Z
LAST-MODIFIED:20251021T203415Z
UID:6477-1762970400-1762981200@www.jewishomaha.org
SUMMARY:Omaha Jewish Film Festival | The Property
DESCRIPTION:Nov. 12 – The Property\nHosted by Mary-Beth & Bruce Muskin \nRegina and her granddaughter Mika embark on a journey to Poland to reclaim their family property seized during World War II. But their quest quickly unravels. Regina unexpectedly decides to abandon the mission entirely\, leaving Mika lost and confused. To complicate matters further\, an irritating distant relative keeps appearing at every turn.  Just as Mika finds herself falling for a charming tour guide\, Regina seizes the opportunity to pursue her own hidden agenda: finding her long-lost love\, from whom she was separated seventy years ago. \nBased on the graphic novel by Rutu Modan\, The Property stars beloved actress Rivka Michaeli and has been nominated for 4 Israeli Academy Awards. \nWhether you’re a film enthusiast\, someone who enjoys the latest Jewish-themed films\, or someone looking for an entertaining night out\, the Omaha Jewish Film Festival promises to provide you with a fulfilling cinematic experience and free popcorn. \n\nTICKETS – Purchase Pass\n4 Ticket Pass $15\n8 Ticket Pass $25\nSingle Ticket at door $5 \nPasses may be used for any combination of people and/or film admissions. \n\n\nThank you to the financial supporters of the 2025 Omaha Jewish Film Festival:\nLois Jeanne Schrager Memorial Fund\, Fran and Rich Juro Endowment Fund for the Federation\, Etta and Harold Epstein Security Fund\, Ruth Frisch & Oscar S. Belzer Endowment Fund\, Special Donor-Advised Fund of the JFO Foundation\, and the Klutznick Custodial Fund and the Miller Film Fund by Lindsey Miller-Lerman in memory of her parents Avy and Roberta Miller. Further supported by the B’nai B’rith Henry Monsky Lodge and our corporate sponsor\, First National Bank of Omaha.
URL:https://www.jewishomaha.org/event/omaha-jewish-film-festival-the-property/
LOCATION:Alan J. Levine Performing Arts Theater\, 333 S. 132nd St.\, Omaha\, NE\, 68154
ATTACH;FMTTYPE=image/jpeg:https://www.jewishomaha.org/wp-content/uploads/2025/10/2025-Film-Festival-cards4.jpg
END:VEVENT
BEGIN:VEVENT
DTSTART;TZID=UTC:20251118T120000
DTEND;TZID=UTC:20251118T120000
DTSTAMP:20260424T154644
CREATED:20251020T225556Z
LAST-MODIFIED:20251020T225754Z
UID:4988-1763467200-1763467200@www.jewishomaha.org
SUMMARY:Virtual Community One Read
DESCRIPTION:Join us for a virtual Community One Read featuring Rabbi Angela Buchdahl\, the first female Senior Rabbi of Central Synagogue in New York City\, and author Abigail Pogrebin.  \nA stir­ring account of one woman’s jour­ney from feel­ing like an out­sider to becoming one of the most admired reli­gious lead­ers in the world. Rabbi Angela Buchdahl was pro­found­ly spir­i­tu­al from a young age\, she felt a con­nec­tion to God when only a child and felt the first stir­rings to become a rab­bi at age six­teen. Despite the naysay­ers and peri­ods of self-doubt she stayed the course\, which took her first to Yale\, then to rab­bini­cal school\, can­to­r­i­al school\, and final­ly to the pul­pit of one of the largest\, most influ­en­tial con­gre­ga­tions in the world. She has writ­ten a book that is both a mem­oir and a spir­i­tu­al guide for every­day liv­ing\, which is exact­ly what so many of us crave right now. \nNo reservations are required and light refreshments will be served.
URL:https://www.jewishomaha.org/event/virtual-community-one-read-2/
LOCATION:Benjamin & Anna E. Wiesman Family Reception Room\, 333 S. 132nd St.\, Omaha\, NE\, 68154
ATTACH;FMTTYPE=image/jpeg:https://www.jewishomaha.org/wp-content/uploads/2025/10/Comm-One-Read-Buchdahl-11-18-25.jpg
END:VEVENT
BEGIN:VEVENT
DTSTART;TZID=UTC:20251119T120000
DTEND;TZID=UTC:20251119T130000
DTSTAMP:20260424T154644
CREATED:20251114T185313Z
LAST-MODIFIED:20251118T231734Z
UID:6566-1763553600-1763557200@www.jewishomaha.org
SUMMARY:Omaha Beit Midrash: Rabbi Mordechai Geiger
DESCRIPTION:November 19 | Rabbi Mordechai Geiger of Beth Israel Synagogue\n12:00-1:00 pm\nAll sessions are held at the Staenberg Omaha JCC. Light Kosher lunch served at each session. No cost to attend.\nDrop in for one session\, or become a regular attendee – everyone is welcome. \nBeit Midrash (house of study) gives all of Jewish Omaha the opportunity to engage in spirited and challenging cross-denominational study with local rabbis and cantors. This space fosters discussion and friendly debate\, allowing students and teachers to share ideas and deepen their understanding of Jewish teachings. Such a communal learning environment is essential for personal growth and the preservation of Jewish traditions. \nDuring each Beit Midrash\, a different clergy member from our community synagogues will select and present a pertinent topic of their choice. \nREGISTER HERE\nYou may fill out this form as many times necessary to register for additional dates. \nQuestions? Contact Naomi Fox\, Director of Community Engagement & Education\, at nfox@jewishomaha.org or 402.334.6424.
URL:https://www.jewishomaha.org/event/beit-midrash-11-19-25/
LOCATION:Staenberg Kooper Fellman Campus\, 333 S. 132nd St.\, Omaha\, NE\, 68154
ATTACH;FMTTYPE=image/jpeg:https://www.jewishomaha.org/wp-content/uploads/2025/11/Beit-Midrash-FB-Event-Cover-11-19-25-1.jpg
END:VEVENT
END:VCALENDAR