BEGIN:VCALENDAR
VERSION:2.0
PRODID:-//Jewish Federation of Omaha - ECPv6.15.20//NONSGML v1.0//EN
CALSCALE:GREGORIAN
METHOD:PUBLISH
X-WR-CALNAME:Jewish Federation of Omaha
X-ORIGINAL-URL:https://www.jewishomaha.org
X-WR-CALDESC:Events for Jewish Federation of Omaha
REFRESH-INTERVAL;VALUE=DURATION:PT1H
X-Robots-Tag:noindex
X-PUBLISHED-TTL:PT1H
BEGIN:VTIMEZONE
TZID:UTC
BEGIN:STANDARD
TZOFFSETFROM:+0000
TZOFFSETTO:+0000
TZNAME:UTC
DTSTART:20240101T000000
END:STANDARD
END:VTIMEZONE
BEGIN:VEVENT
DTSTART;TZID=UTC:20250108T120000
DTEND;TZID=UTC:20250108T130000
DTSTAMP:20260425T122628
CREATED:20241113T161329Z
LAST-MODIFIED:20241113T161329Z
UID:5145-1736337600-1736341200@www.jewishomaha.org
SUMMARY:Beit Midrash
DESCRIPTION:Embracing our desire to be together and learn together\, this exciting Beit Midrash (house of study) gives all of Jewish Omaha the opportunity to engage in spirited and challenging cross-denominational study with local rabbis and cantors. During each Beit Midrash\, a different clergy member from our community synagogues will select and present a pertinent topic of their choice. Classes will be held in-person at the Staenberg Omaha JCC. \nDrop in for one session or become a regular attendee – everyone is welcome. \nLight Kosher refreshments served at each session. No cost to attend.
URL:https://www.jewishomaha.org/event/beit-midrash-2/
LOCATION:Staenberg Kooper Fellman Campus\, 333 S. 132nd St.\, Omaha\, NE\, 68154
ATTACH;FMTTYPE=image/jpeg:https://www.jewishomaha.org/wp-content/uploads/2024/11/Beit-Midrash.jpg
END:VEVENT
BEGIN:VEVENT
DTSTART;TZID=UTC:20250109T170000
DTEND;TZID=UTC:20250109T181500
DTSTAMP:20260425T122628
CREATED:20241231T221454Z
LAST-MODIFIED:20241231T221454Z
UID:5301-1736442000-1736446500@www.jewishomaha.org
SUMMARY:Israeli Snacks with Mika
DESCRIPTION:Join Community Shlichah Mika Mizrahi for a fun evening of tasting some of the most popular snacks from Israel!\nAll of the snacks are kosher.\nPlease register!Cost: $5 Individual | $10 Family
URL:https://www.jewishomaha.org/event/israeli-snacks-with-mika/
LOCATION:Jewish Federation of Omaha\, 333 S 132nd Street\, Omaha\, NE\, 68154\, United States
ATTACH;FMTTYPE=image/jpeg:https://www.jewishomaha.org/wp-content/uploads/2024/12/Israeli-Snacks.jpg
END:VEVENT
BEGIN:VEVENT
DTSTART;TZID=UTC:20250112T150000
DTEND;TZID=UTC:20250112T163000
DTSTAMP:20260425T122628
CREATED:20250103T171913Z
LAST-MODIFIED:20250103T171913Z
UID:5324-1736694000-1736699400@www.jewishomaha.org
SUMMARY:Youth Challah Bake
DESCRIPTION:Create a challah from start to finish! Last year’s popular hot chocolate bar is also returning with a variety of sweet and tasty kosher toppings such as peppermint sticks\, cookie crumble\, and caramel sauce. After everyone picks their challah toppings and sips their hot chocolate\, Mushka Tenenbaum will lead the group in an interactive Shabbat table demonstration. \nFamilies that bring their aprons from the previous year will receive a collectible pin to decorate their aprons. Aprons will be available for families new to the event. The program is $10 per child and can be paid upon registration through Chabad of Nebraska’s website by clicking the button below. \nThe Youth Challah Bake is supported by The Chesed Fund\, the Foundation IMPACT Grant and the Morton A Richards Youth Program Fund.
URL:https://www.jewishomaha.org/event/youth-challah-bake/
ATTACH;FMTTYPE=image/png:https://www.jewishomaha.org/wp-content/uploads/2025/01/Youth-Challah-Bake.png
ORGANIZER;CN="PJ Library":MAILTO:hheilbrunn@jewishomaha.org
END:VEVENT
BEGIN:VEVENT
DTSTART;TZID=UTC:20250117T130000
DTEND;TZID=UTC:20250117T153000
DTSTAMP:20260425T122628
CREATED:20241231T222157Z
LAST-MODIFIED:20241231T222157Z
UID:5304-1737118800-1737127800@www.jewishomaha.org
SUMMARY:Film & Friends - Programming for 55+
DESCRIPTION:Jewish Family Service invites you to free monthly movie showings at the Alan J. Levine Performing Arts Theater at the JCC. \nAll movies start at 1:00 P.M. \n\nJanuary 17: “Singing in the Rain”\nFebruary 7: “When Harry Met Sally”\nMarch 21: “Field of Dreams”\n\nConcessions will be available for purchase. \nRegister here!
URL:https://www.jewishomaha.org/event/film-friends-programming-for-55/
LOCATION:Alan J. Levine Performing Arts Theater\, 333 S. 132nd St.\, Omaha\, NE\, 68154
ATTACH;FMTTYPE=image/png:https://www.jewishomaha.org/wp-content/uploads/2024/12/Film___Friends.png
ORGANIZER;CN="Jewish Family Service":MAILTO:htopil@jfsomaha.com
END:VEVENT
BEGIN:VEVENT
DTSTART;TZID=UTC:20250126T150000
DTEND;TZID=UTC:20250126T163000
DTSTAMP:20260425T122628
CREATED:20250103T171003Z
LAST-MODIFIED:20250103T171003Z
UID:5322-1737903600-1737909000@www.jewishomaha.org
SUMMARY:Taste of Jewish Omaha
DESCRIPTION:Shabbat Favorites – Baking for Tots with Ayelet Geiger\nExperience the warmth of Jewish community and cuisine with PJ Library’s Taste of Jewish Omaha cooking series\, a heartwarming parent-child journey. Share your treasured family recipes and help craft a PJ Library Taste of Omaha family-friendly cookbook that celebrates our shared heritage and traditions. \nPJ Library’s Taste of Jewish Omaha continues with Shabbat Favorites with Ayelet Geiger at 3 p.m. Ayelet\, who is known for her delectable kosher meals and catering\, is welcoming children of all ages into her home. She will share a few of her family’s favorite Shabbat staples. PJ Library families will practice rolling matzo balls and create an easy puff-pastry dessert.
URL:https://www.jewishomaha.org/event/taste-of-jewish-omaha/
ATTACH;FMTTYPE=image/jpeg:https://www.jewishomaha.org/wp-content/uploads/2024/11/Event-images2.jpg
ORGANIZER;CN="PJ Library":MAILTO:hheilbrunn@jewishomaha.org
END:VEVENT
END:VCALENDAR