BEGIN:VCALENDAR
VERSION:2.0
PRODID:-//Jewish Federation of Omaha - ECPv6.15.20//NONSGML v1.0//EN
CALSCALE:GREGORIAN
METHOD:PUBLISH
X-WR-CALNAME:Jewish Federation of Omaha
X-ORIGINAL-URL:https://www.jewishomaha.org
X-WR-CALDESC:Events for Jewish Federation of Omaha
REFRESH-INTERVAL;VALUE=DURATION:PT1H
X-Robots-Tag:noindex
X-PUBLISHED-TTL:PT1H
BEGIN:VTIMEZONE
TZID:UTC
BEGIN:STANDARD
TZOFFSETFROM:+0000
TZOFFSETTO:+0000
TZNAME:UTC
DTSTART:20230101T000000
END:STANDARD
END:VTIMEZONE
BEGIN:VEVENT
DTSTART;VALUE=DATE:20241203
DTEND;VALUE=DATE:20241204
DTSTAMP:20260425T140434
CREATED:20241112T233429Z
LAST-MODIFIED:20241112T234310Z
UID:5137-1733184000-1733270399@www.jewishomaha.org
SUMMARY:Giving Tuesday!
DESCRIPTION:We’re celebrating Giving Tuesday\, a global celebration of grassroots philanthropy\, with a 24-hour community giving challenge to support our 2025 Annual Campaign! \nThe overall goal of our Annual Campaign is 3.4 million\, but our Giving Tuesday goal is $100\,000+ in 24 hours! \nYOU can help us reach that goal! Donate online at JewishOmaha.org or ShareOmaha.org! \nMake Giving Extra Rewarding!\nPledge or donate at any time on December 3rd to the Jewish Federation of Omaha Annual Campaign\, and you’ll be entered into a drawing for a Kindle Softcolor! Sponsored by CRESA \nDouble Your Donation\nFor every $100+ gift or pledge made throughout the day\, Cresa will match your donation (up to $1\,000 total match). \nClick here to view more GIVING INCENTIVES sponsored by CRESA!
URL:https://www.jewishomaha.org/event/giving-tuesday/
ATTACH;FMTTYPE=image/jpeg:https://www.jewishomaha.org/wp-content/uploads/2024/11/Giving-Tuesday.jpg
END:VEVENT
BEGIN:VEVENT
DTSTART;TZID=UTC:20241204T120000
DTEND;TZID=UTC:20241204T130000
DTSTAMP:20260425T140434
CREATED:20241113T161125Z
LAST-MODIFIED:20241113T161125Z
UID:5142-1733313600-1733317200@www.jewishomaha.org
SUMMARY:Beit Midrash
DESCRIPTION:Embracing our desire to be together and learn together\, this exciting Beit Midrash (house of study) gives all of Jewish Omaha the opportunity to engage in spirited and challenging cross-denominational study with local rabbis and cantors. During each Beit Midrash\, a different clergy member from our community synagogues will select and present a pertinent topic of their choice. Classes will be held in-person at the Staenberg Omaha JCC. \nDrop in for one session or become a regular attendee – everyone is welcome. \nLight Kosher refreshments served at each session. No cost to attend.
URL:https://www.jewishomaha.org/event/beit-midrash/
LOCATION:Staenberg Kooper Fellman Campus\, 333 S. 132nd St.\, Omaha\, NE\, 68154
ATTACH;FMTTYPE=image/jpeg:https://www.jewishomaha.org/wp-content/uploads/2024/11/Beit-Midrash.jpg
END:VEVENT
BEGIN:VEVENT
DTSTART;TZID=UTC:20241215T140000
DTEND;TZID=UTC:20241215T140000
DTSTAMP:20260425T140434
CREATED:20241022T144233Z
LAST-MODIFIED:20241112T234130Z
UID:5096-1734271200-1734271200@www.jewishomaha.org
SUMMARY:Local Author Event featuring Bob Yaffe
DESCRIPTION:Join us at the Author Event for Omaha’s own Bob Yaffe’s book\, Relinquished.\nIt was 1950 when Robert J. (Bob) Yaffe was adopted by Dorothy and Sol Yaffe. Decades later\, in 1985\, Bob embarked on a search for his birth parents. In his book\, Relinquished\, he details that journey\, and its results.\nRead more\n\nPlease let us know if you plan to attend by registering.
URL:https://www.jewishomaha.org/event/local-author-event-featuring-bob-yaffe/
LOCATION:Jewish Federation of Omaha\, 333 S 132nd Street\, Omaha\, NE\, 68154\, United States
ATTACH;FMTTYPE=image/jpeg:https://www.jewishomaha.org/wp-content/uploads/2024/10/Author-Event-Bob-Yaffe-1920-x-1080-px-scaled.jpg
END:VEVENT
BEGIN:VEVENT
DTSTART;TZID=UTC:20241217T190000
DTEND;TZID=UTC:20241217T203000
DTSTAMP:20260425T140434
CREATED:20241204T153440Z
LAST-MODIFIED:20241217T002602Z
UID:5201-1734462000-1734467400@www.jewishomaha.org
SUMMARY:Special Briefing
DESCRIPTION:You’re invited to a Special Omaha Community Briefing with\nYinam Cohen\, Israel Consul General to the Midwest on\nTuesday\, December 17\, 2024\n7:30-8:30 pm\nKosher dessert reception to follow. \nRegistration is required.\nhttps://fundraise.givesmart.com/form/NgT7bA?vid=1bn870
URL:https://www.jewishomaha.org/event/special-briefing/
ATTACH;FMTTYPE=image/jpeg:https://www.jewishomaha.org/wp-content/uploads/2024/12/Consul-General.jpg
END:VEVENT
BEGIN:VEVENT
DTSTART;TZID=UTC:20241220T073000
DTEND;TZID=UTC:20241220T090000
DTSTAMP:20260425T140434
CREATED:20241202T215043Z
LAST-MODIFIED:20241202T215043Z
UID:5196-1734679800-1734685200@www.jewishomaha.org
SUMMARY:JBL Hall of Fame
DESCRIPTION:Tom Fellman and Howard Kooper have dedicated their careers to changing the area’s rental housing landscape\, through the belief their residents deserved something more. That shared belief brought them together in 1968 to create Broadmoor Development.\n\nBorn in Omaha\, Tom Fellman attended Central High School and then the University of Oklahoma where he graduated with his Bachelor of Science in Real Estate and Accounting. He began his career as a staff accountant at Alexander Grant\, spending his day breaking Frank Goldberg’s pencils. After a year\, Tom started his journey as the Tom Fellman Company which built single family homes and duplexes and operated a property management company that included his personal investments along with retail strip centers of the Newman family. Howard Kooper\, also an Omaha native\, attended Central High School and went on to graduate with a Bachelor of Science in Business Administration from the University of Nebraska-Lincoln. Howard entered Creighton Law\, but after a successful first year\, Howard decided to switch his career to real estate. Since partnering with Tom in 1978\, Howard has been the man in the office at least six days a week\, overseeing daily operations\, putting together the framework of the next deal\, and strategies and foresight for the company’s growth.
URL:https://www.jewishomaha.org/event/jbl-hall-of-fame-2/
LOCATION:Happy Hollow Club\, 1701 S 105th St\, Omaha\, NE\, 68124
ATTACH;FMTTYPE=image/jpeg:https://www.jewishomaha.org/wp-content/uploads/2023/09/JBL-HallofFame-card.jpg
ORGANIZER;CN="Jewish Business Leaders":MAILTO:jkatelman@jewishomaha.org
END:VEVENT
BEGIN:VEVENT
DTSTART;TZID=UTC:20241221T173000
DTEND;TZID=UTC:20241221T210000
DTSTAMP:20260425T140434
CREATED:20241206T200849Z
LAST-MODIFIED:20241206T200849Z
UID:5213-1734802200-1734814800@www.jewishomaha.org
SUMMARY:NextGen Hanukkah Party
DESCRIPTION:Get ready for an unforgettable evening at the NextGen Hanukkah Party\, co-chaired by Hailey Krueger and Alex Ronen. This festive event promises fun\, food\, friends\, and duckpin bowling\, all accompanied by delicious cocktails! \nJoin us at Châm Pang Lanes\, located at 910 Harney Street\, on Saturday\, December 21 at 5:30 PM (after Shabbat) to celebrate Hanukkah with some sparkle! NextGen welcomes attendees aged 21-45. \nCost: $18 \nRSVP Now! https://fundraise.givesmart.com/form/YcUrBg?vid=1d547b
URL:https://www.jewishomaha.org/event/nextgen-hanukkah-party/
LOCATION:Cham Pang Lanes\, 910 Harney Street\, Omaha\, NE\, 68102\, United States
ATTACH;FMTTYPE=image/jpeg:https://www.jewishomaha.org/wp-content/uploads/2024/12/NextGen-Hanukkah.jpg
END:VEVENT
BEGIN:VEVENT
DTSTART;TZID=UTC:20241222T100000
DTEND;TZID=UTC:20241222T120000
DTSTAMP:20260425T140434
CREATED:20240917T203212Z
LAST-MODIFIED:20241127T225350Z
UID:4974-1734861600-1734868800@www.jewishomaha.org
SUMMARY:PJ Library: Operation Grateful Goodies
DESCRIPTION:Taste of Jewish Omaha \nEvery year the Jewish community gathers for Operation Grateful Goodies\, a program that makes and delivers treats to first responders working on Christmas.\n\nFor the first time\, PJ Library\, as part of our Taste of Jewish Omaha Series\, will host a special parent-child baking day. Learn a traditional Jewish cookie recipe\, while giving back to the greater Omaha community.\n\nTaste of Jewish Omaha is sponsored by the PJ Library Engagement Grant for Implementing Partners.
URL:https://www.jewishomaha.org/event/pj-library-operation-grateful-goodies/
LOCATION:Jewish Community Center\, 333 S. 132nd Street\, Omaha\, NE\, 68154\, United States
ATTACH;FMTTYPE=image/jpeg:https://www.jewishomaha.org/wp-content/uploads/2024/09/Event-images.jpg
ORGANIZER;CN="PJ Library":MAILTO:hheilbrunn@jewishomaha.org
END:VEVENT
BEGIN:VEVENT
DTSTART;TZID=UTC:20241229T140000
DTEND;TZID=UTC:20241229T160000
DTSTAMP:20260425T140434
CREATED:20241206T195402Z
LAST-MODIFIED:20241206T195437Z
UID:5209-1735480800-1735488000@www.jewishomaha.org
SUMMARY:Hanukkah Extravaganza
DESCRIPTION:Hanukkah Extravaganza Celebrates Israel\nSunday\, December 29\n2:00-4:00 pm \nStaenberg Kooper Fellman Campus – 333 South 132nd Street \nJoin us for an afternoon of family fun to celebrate HANUKKAH! \nActivities Include:\nBounce houses\, Carnival Games\, Israeli “Archeological Dig”\, The Latke Truck\, customize your own Sufganiyot\, and more! \nRegister Now! https://fundraise.givesmart.com/form/FqpDuw?vid=1d5yk5
URL:https://www.jewishomaha.org/event/hanukkah-extravaganza-2/
LOCATION:Shirley & Leonard Goldstein Community Engagement Venue\, 333 S. 132nd St.\, Omaha\, NE\, 68154
ATTACH;FMTTYPE=image/jpeg:https://www.jewishomaha.org/wp-content/uploads/2024/11/Event-images.jpg
END:VEVENT
END:VCALENDAR