BEGIN:VCALENDAR
VERSION:2.0
PRODID:-//Jewish Federation of Omaha - ECPv6.15.20//NONSGML v1.0//EN
CALSCALE:GREGORIAN
METHOD:PUBLISH
X-ORIGINAL-URL:https://www.jewishomaha.org
X-WR-CALDESC:Events for Jewish Federation of Omaha
REFRESH-INTERVAL;VALUE=DURATION:PT1H
X-Robots-Tag:noindex
X-PUBLISHED-TTL:PT1H
BEGIN:VTIMEZONE
TZID:UTC
BEGIN:STANDARD
TZOFFSETFROM:+0000
TZOFFSETTO:+0000
TZNAME:UTC
DTSTART:20230101T000000
END:STANDARD
END:VTIMEZONE
BEGIN:VEVENT
DTSTART;TZID=UTC:20241006T190000
DTEND;TZID=UTC:20241006T210000
DTSTAMP:20260425T172421
CREATED:20241001T164654Z
LAST-MODIFIED:20241001T165223Z
UID:5045-1728241200-1728248400@www.jewishomaha.org
SUMMARY:Documentary - A Life Well Lived: An Account of David Kaufmann
DESCRIPTION:UNO’s College of Communication\, Fine Arts and Media in conjunction with the Institute for Holocaust Education\, B’nai B’rith Monsky Lodge\, and the UNO Schwalb Center for Israel and Jewish Studies\, present a screening of “A Life Well Lived: An Account of David Kaufmann.” This documentary tells the remarkable true story of David Kaufmann\, a central Nebraska businessman\, community leader\, and philanthropist\, whose actions impacted countless lives. \nA Life Well Lived: An Account of David Kaufmann\nDocumentary Film – Free Admission\nNo Registration Required.\nSunday\, October 6 | 7:00 pm\nAlan J. Levine Performing Arts Theater- 333 S. 132nd Street\, Omaha\, NE 68154 \nThe movie tells the remarkable true story of David Kaufmann\, a central Nebraska businessman\, community leader\, and philanthropist\, whose actions impacted countless lives.\nDavid Kaufmann emigrated from Germany and settled in Grand Island in 1903. His contributions to his adopted hometown of Grand Island and other communities he conducted business in\, including Kearney and North Platte\, were extensive. Kaufmann believed one person could make a difference in the lives of others and sought to inspire others to do good where they could. Kaufmann’s most significant\, and least known\, act of service was his quiet sponsorship of Jewish families fleeing the Nazi regime. Included in those saved were Marcel Kahn and his family. Despite his selfless actions that saved many lives\, Kaufmann never sought recognition for his humanitarian efforts. \nThe documentary features interviews with descendants of individuals Kaufmann helped leave Germany\, historians\, community leaders\, and individuals who remembered him. Reenacted scenes were filmed in Grand Island\, using local talent and support from the community. The project has also received generous support from various organizations\, including History Nebraska\, Humanities Nebraska\, Nebraska State Historical Society Foundation\, Nebraska Jewish Historical Society\, Stuhr Museum\, Buffalo County Historical Society\, and the University of Nebraska-Kearney.
URL:https://www.jewishomaha.org/event/5045/
LOCATION:Alan J. Levine Performing Arts Theater\, 333 S. 132nd St.\, Omaha\, NE\, 68154
ATTACH;FMTTYPE=image/jpeg:https://www.jewishomaha.org/wp-content/uploads/2024/10/Event-images2.jpg
END:VEVENT
BEGIN:VEVENT
DTSTART;TZID=UTC:20241008T190000
DTEND;TZID=UTC:20241008T210000
DTSTAMP:20260425T172421
CREATED:20240930T193837Z
LAST-MODIFIED:20241008T170850Z
UID:5038-1728414000-1728421200@www.jewishomaha.org
SUMMARY:Stories of the October 7th Attacks
DESCRIPTION:Tuesday\, October 8th\n7:00 pm – #NOVA Documentary\n8:00 pm – Q&A with survivor Ofri Avigdor Betser\n\nAlan J Levine Performing Arts Theater\n333 S. 132nd Street • Omaha\, NE\n\nRegistration is required.\n Click here to REGISTER for the DOCUMENTARY
URL:https://www.jewishomaha.org/event/stories-of-the-october-7th-attacks/
LOCATION:Alan J. Levine Performing Arts Theater\, 333 S. 132nd St.\, Omaha\, NE\, 68154
ATTACH;FMTTYPE=image/jpeg:https://www.jewishomaha.org/wp-content/uploads/2024/09/NOVA-and-Survivor-stories.jpg
END:VEVENT
BEGIN:VEVENT
DTSTART;TZID=UTC:20241027T140000
DTEND;TZID=UTC:20241027T160000
DTSTAMP:20260425T172421
CREATED:20241001T164001Z
LAST-MODIFIED:20241001T165124Z
UID:5042-1730037600-1730044800@www.jewishomaha.org
SUMMARY:LOL presents Carl Guerra
DESCRIPTION:HE MAKES COMEDY. HE MAKES MUSIC.\nHE’LL MAKE YOUR SUNDAY AFTERNOON!\nCarl Guerra makes laughter for a living!\nSunday\, October 27\, 2024 / 2ish–4ish\nShirley and Leonard Goldstein Community Engagement Venue\nStaenberg Kooper Fellman Campus • 333 South 132nd Street \nCarl’s been making people laugh since he graduated from Cornell—which made his parents cry. He’s performed at New York City’s Dangerfield’s\, The Comic Strip and The Improv. As well as appearances on Star Search and Evening at the Improv. Now\, he’s landing in the middle of America to grace the LOL stage.\nThe laughs are FREE. And so are the after-show refreshments! \nSponsored by THE MEYERS FAMILY LEGACY OF LAUGHTER ENDOWMENT FUND of The Jewish Federation of Omaha Foundation \nMeyersFamilyLOL.org
URL:https://www.jewishomaha.org/event/5042/
LOCATION:Shirley & Leonard Goldstein Community Engagement Venue\, 333 S. 132nd St.\, Omaha\, NE\, 68154
ATTACH;FMTTYPE=image/jpeg:https://www.jewishomaha.org/wp-content/uploads/2024/10/Event-images.jpg
ORGANIZER;CN="Jewish Federation of Omaha Foundation":MAILTO:ashivvers@jewishomaha.org
END:VEVENT
BEGIN:VEVENT
DTSTART;TZID=UTC:20241027T180000
DTEND;TZID=UTC:20241027T210000
DTSTAMP:20260425T172421
CREATED:20240919T184524Z
LAST-MODIFIED:20240919T211421Z
UID:4997-1730052000-1730062800@www.jewishomaha.org
SUMMARY:Omaha Jewish Film Festival  |   Shared Legacies: The African-American Jewish Civil Rights Alliance
DESCRIPTION:Whether you’re a film enthusiast or someone who enjoys viewing some of the latest and best Jewish-themed films\, the Omaha Jewish Film Festival promises to provide you with a fulfilling cinematic experience. You can always count on a reasonable ticket price and a little nosh for the night. \nEach night will be hosted by a different community member with a special interest in that evening’s film. In addition to introducing the film\, your host invites you to join a short discussion and socialization after the film. \nHost: Marty Shukert \nLearn more and purchase ticket passes: www.jewishomaha.org/community-engagement/film-festival
URL:https://www.jewishomaha.org/event/omaha-jewish-film-festival-shared-legacies-the-african-american-jewish-civil-rights-alliance/
LOCATION:Alan J. Levine Performing Arts Theater\, 333 S. 132nd St.\, Omaha\, NE\, 68154
ATTACH;FMTTYPE=image/jpeg:https://www.jewishomaha.org/wp-content/uploads/2024/09/Jewish-Film-Festival-films.jpg
END:VEVENT
BEGIN:VEVENT
DTSTART;TZID=UTC:20241028T180000
DTEND;TZID=UTC:20241028T210000
DTSTAMP:20260425T172421
CREATED:20240919T212544Z
LAST-MODIFIED:20240919T213322Z
UID:5005-1730138400-1730149200@www.jewishomaha.org
SUMMARY:Omaha Jewish Film Festival  |  Our (Almost Completely True) Love Story
DESCRIPTION:Whether you’re a film enthusiast or someone who enjoys viewing some of the latest and best Jewish-themed films\, the Omaha Jewish Film Festival promises to provide you with a fulfilling cinematic experience. You can always count on a reasonable ticket price and a little nosh for the night. \nEach night will be hosted by a different community member with a special interest in that evening’s film. In addition to introducing the film\, your host invites you to join a short discussion and socialization after the film. \nHost: Sarah Abrahamson \nLearn more and purchase ticket passes: www.jewishomaha.org/community-engagement/film-festival
URL:https://www.jewishomaha.org/event/omaha-jewish-film-festival-our-almost-completely-true-love-story/
LOCATION:Alan J. Levine Performing Arts Theater\, 333 S. 132nd St.\, Omaha\, NE\, 68154
ATTACH;FMTTYPE=image/jpeg:https://www.jewishomaha.org/wp-content/uploads/2024/09/Jewish-Film-Festival-films3.jpg
END:VEVENT
BEGIN:VEVENT
DTSTART;TZID=UTC:20241029T180000
DTEND;TZID=UTC:20241029T210000
DTSTAMP:20260425T172421
CREATED:20240919T213024Z
LAST-MODIFIED:20240919T213024Z
UID:5007-1730224800-1730235600@www.jewishomaha.org
SUMMARY:Omaha Jewish Film Festival | Running on Sand
DESCRIPTION:Whether you’re a film enthusiast or someone who enjoys viewing some of the latest and best Jewish-themed films\, the Omaha Jewish Film Festival promises to provide you with a fulfilling cinematic experience. You can always count on a reasonable ticket price and a little nosh for the night. \nEach night will be hosted by a different community member with a special interest in that evening’s film. In addition to introducing the film\, your host invites you to join a short discussion and socialization after the film. \nHosts: Ilana Linthicum and Francisco Guzman Jimenez \nLearn more and purchase ticket passes: www.jewishomaha.org/community-engagement/film-festival
URL:https://www.jewishomaha.org/event/omaha-jewish-film-festival-running-on-sand/
LOCATION:Alan J. Levine Performing Arts Theater\, 333 S. 132nd St.\, Omaha\, NE\, 68154
ATTACH;FMTTYPE=image/jpeg:https://www.jewishomaha.org/wp-content/uploads/2024/09/Jewish-Film-Festival-films4.jpg
END:VEVENT
BEGIN:VEVENT
DTSTART;TZID=UTC:20241030T180000
DTEND;TZID=UTC:20241030T210000
DTSTAMP:20260425T172421
CREATED:20240919T213236Z
LAST-MODIFIED:20240919T213236Z
UID:5009-1730311200-1730322000@www.jewishomaha.org
SUMMARY:Omaha Jewish Film Festival | Avenue of the Giants
DESCRIPTION:Whether you’re a film enthusiast or someone who enjoys viewing some of the latest and best Jewish-themed films\, the Omaha Jewish Film Festival promises to provide you with a fulfilling cinematic experience. You can always count on a reasonable ticket price and a little nosh for the night. \nEach night will be hosted by a different community member with a special interest in that evening’s film. In addition to introducing the film\, your host invites you to join a short discussion and socialization after the film. \nHost: Gloria Kaslow \nLearn more and purchase ticket passes: www.jewishomaha.org/community-engagement/film-festival
URL:https://www.jewishomaha.org/event/omaha-jewish-film-festival-avenue-of-the-giants/
LOCATION:Alan J. Levine Performing Arts Theater\, 333 S. 132nd St.\, Omaha\, NE\, 68154
ATTACH;FMTTYPE=image/jpeg:https://www.jewishomaha.org/wp-content/uploads/2024/09/Jewish-Film-Festival-films2.jpg
END:VEVENT
END:VCALENDAR