BEGIN:VCALENDAR
VERSION:2.0
PRODID:-//Jewish Federation of Omaha - ECPv6.15.20//NONSGML v1.0//EN
CALSCALE:GREGORIAN
METHOD:PUBLISH
X-WR-CALNAME:Jewish Federation of Omaha
X-ORIGINAL-URL:https://www.jewishomaha.org
X-WR-CALDESC:Events for Jewish Federation of Omaha
REFRESH-INTERVAL;VALUE=DURATION:PT1H
X-Robots-Tag:noindex
X-PUBLISHED-TTL:PT1H
BEGIN:VTIMEZONE
TZID:UTC
BEGIN:STANDARD
TZOFFSETFROM:+0000
TZOFFSETTO:+0000
TZNAME:UTC
DTSTART:20250101T000000
END:STANDARD
END:VTIMEZONE
BEGIN:VEVENT
DTSTART;TZID=UTC:20260520T120000
DTEND;TZID=UTC:20260520T130000
DTSTAMP:20260425T134049
CREATED:20251114T205522Z
LAST-MODIFIED:20251118T231521Z
UID:6600-1779278400-1779282000@www.jewishomaha.org
SUMMARY:Omaha Beit Midrash: Rebbetzin Shani Katzman
DESCRIPTION:May 20 | Rebbetzin Shani Katzman of Chabad of Nebraska\n12:00-1:00 pm\nAll sessions are held at the Staenberg Omaha JCC. Light Kosher lunch served at each session. No cost to attend.\nDrop in for one session\, or become a regular attendee – everyone is welcome. \nBeit Midrash (house of study) gives all of Jewish Omaha the opportunity to engage in spirited and challenging cross-denominational study with local rabbis and cantors. This space fosters discussion and friendly debate\, allowing students and teachers to share ideas and deepen their understanding of Jewish teachings. Such a communal learning environment is essential for personal growth and the preservation of Jewish traditions. \nDuring each Beit Midrash\, a different clergy member from our community synagogues will select and present a pertinent topic of their choice. \nREGISTER HERE\nYou may fill out this form as many times necessary to register for additional dates. \nQuestions? Contact Naomi Fox\, Director of Community Engagement & Education\, at nfox@jewishomaha.org or 402.334.6424.
URL:https://www.jewishomaha.org/event/omaha-beit-midrash-5-20-26/
LOCATION:Staenberg Kooper Fellman Campus\, 333 S. 132nd St.\, Omaha\, NE\, 68154
ATTACH;FMTTYPE=image/jpeg:https://www.jewishomaha.org/wp-content/uploads/2025/11/Beit-Midrash-FB-Event-Cover-5-20-26.jpg
END:VEVENT
BEGIN:VEVENT
DTSTART;TZID=UTC:20260617T120000
DTEND;TZID=UTC:20260617T130000
DTSTAMP:20260425T134049
CREATED:20251117T182109Z
LAST-MODIFIED:20251118T231445Z
UID:6607-1781697600-1781701200@www.jewishomaha.org
SUMMARY:Omaha Beit Midrash: Cantor Joanna Alexander
DESCRIPTION:June 17 | Cantor Joanna Alexander of Temple Israel\n12:00-1:00 pm\nAll sessions are held at the Staenberg Omaha JCC. Light Kosher lunch served at each session. No cost to attend.\nDrop in for one session\, or become a regular attendee – everyone is welcome. \nBeit Midrash (house of study) gives all of Jewish Omaha the opportunity to engage in spirited and challenging cross-denominational study with local rabbis and cantors. This space fosters discussion and friendly debate\, allowing students and teachers to share ideas and deepen their understanding of Jewish teachings. Such a communal learning environment is essential for personal growth and the preservation of Jewish traditions. \nDuring each Beit Midrash\, a different clergy member from our community synagogues will select and present a pertinent topic of their choice. \nREGISTER HERE\nYou may fill out this form as many times necessary to register for additional dates. \nQuestions? Contact Naomi Fox\, Director of Community Engagement & Education\, at nfox@jewishomaha.org or 402.334.6424.
URL:https://www.jewishomaha.org/event/omaha-beit-midrash-cantor-joanna-alexander/
LOCATION:Staenberg Kooper Fellman Campus\, 333 S. 132nd St.\, Omaha\, NE\, 68154
ATTACH;FMTTYPE=image/jpeg:https://www.jewishomaha.org/wp-content/uploads/2025/11/Beit-Midrash-FB-Event-Cover-6-17-26-scaled.jpg
END:VEVENT
END:VCALENDAR