BEGIN:VCALENDAR
VERSION:2.0
PRODID:-//Jewish Federation of Omaha - ECPv6.15.20//NONSGML v1.0//EN
CALSCALE:GREGORIAN
METHOD:PUBLISH
X-WR-CALNAME:Jewish Federation of Omaha
X-ORIGINAL-URL:https://www.jewishomaha.org
X-WR-CALDESC:Events for Jewish Federation of Omaha
REFRESH-INTERVAL;VALUE=DURATION:PT1H
X-Robots-Tag:noindex
X-PUBLISHED-TTL:PT1H
BEGIN:VTIMEZONE
TZID:UTC
BEGIN:STANDARD
TZOFFSETFROM:+0000
TZOFFSETTO:+0000
TZNAME:UTC
DTSTART:20220101T000000
END:STANDARD
END:VTIMEZONE
BEGIN:VEVENT
DTSTART;TZID=UTC:20230611T140000
DTEND;TZID=UTC:20230611T220000
DTSTAMP:20260425T160334
CREATED:20230531T164620Z
LAST-MODIFIED:20230531T171855Z
UID:3055-1686492000-1686520800@www.jewishomaha.org
SUMMARY:Family Day at the Zoo
DESCRIPTION:Join other families in Jewish Omaha for a fun day at the Zoo! If you don’t have a zoo membership: Meet at 9 A.M\, and PJ Library will pay for your admission! If you have your own membership\, you can join us at any time.\n\nHere is the schedule of meet-ups:\n9:15 A.M.: Meet to walk around together (We’ll likely split into several groups depending on where folks want to go.)\n10:45 A.M.: Friedel will provide kosher snacks—if you want to sleep in—join us then!\n\nWe will provide location details to people who register.
URL:https://www.jewishomaha.org/event/family-day-at-the-zoo/
LOCATION:Henry Doorly Zoo & Aquarium\, 3701 S 10th St.\, Omaha\, NE\, 68107
ATTACH;FMTTYPE=image/jpeg:https://www.jewishomaha.org/wp-content/uploads/2023/05/Zoo-Day-event.jpg
ORGANIZER;CN="PJ Library":MAILTO:hheilbrunn@jewishomaha.org
END:VEVENT
BEGIN:VEVENT
DTSTART;TZID=UTC:20230608T230000
DTEND;TZID=UTC:20230609T010000
DTSTAMP:20260425T160334
CREATED:20230531T171219Z
LAST-MODIFIED:20230531T172854Z
UID:3075-1686265200-1686272400@www.jewishomaha.org
SUMMARY:JFOF 40th Anniversary - Summer Camp Reunion
DESCRIPTION:Join us for a drink\, games\, s’mores and a camp song jamboree!
URL:https://www.jewishomaha.org/event/jfof-40th-anniversary-summer-camp-reunion/
LOCATION:Sonny’s\, 1905 S 67th St.\, Omaha\, NE\, 68106
ATTACH;FMTTYPE=image/png:https://www.jewishomaha.org/wp-content/uploads/2023/05/Screen-Shot-2023-05-31-at-12.28.00-PM-e1685554125110.png
ORGANIZER;CN="Jewish Federation of Omaha Foundation":MAILTO:ashivvers@jewishomaha.org
END:VEVENT
BEGIN:VEVENT
DTSTART;TZID=UTC:20230608T083000
DTEND;TZID=UTC:20230608T100000
DTSTAMP:20260425T160334
CREATED:20230601T204911Z
LAST-MODIFIED:20230601T204911Z
UID:3094-1686213000-1686218400@www.jewishomaha.org
SUMMARY:Breakfast with Consul General Yinam Cohen
DESCRIPTION:The Jewish Community Relations Council (JCRC) is proud to announce Yinam Cohen\, Consul General of Israel to the Midwest\, will be in Omaha to receive a special recognition from Governor Pillen congratulating Israel on it’s 75th anniversary. The Jewish community is invited to a special breakfast prior to the recognition. \nQuestions? Please contact Pam Monsky\, pmonsky@jewishomaha.org
URL:https://www.jewishomaha.org/event/breakfast-with-consul-general-yinam-cohen/
LOCATION:NE
ATTACH;FMTTYPE=image/jpeg:https://www.jewishomaha.org/wp-content/uploads/2023/06/Yinam-Cohen-CG_JPG_1_.jpg
END:VEVENT
BEGIN:VEVENT
DTSTART;TZID=UTC:20230605T230000
DTEND;TZID=UTC:20230606T010000
DTSTAMP:20260425T160335
CREATED:20230531T161927Z
LAST-MODIFIED:20230531T171921Z
UID:3047-1686006000-1686013200@www.jewishomaha.org
SUMMARY:Annual Meeting & Awards Night
DESCRIPTION:Please join us Monday\, June 5 at 6:00 p.m. to celebrate our award recipients!\nEvent will be in the Alan J. Levine Performing Arts Theater. Pre and post event receptions at 6:00 p.m. and 8:00 p.m. hosted by the Jewish Federation of Omaha Foundation in honor of their Fabulous at 40 Anniversary.
URL:https://www.jewishomaha.org/event/annual-meeting-awards-night/
LOCATION:Alan J. Levine Performing Arts Theater\, 333 S. 132nd St.\, Omaha\, NE\, 68154
ATTACH;FMTTYPE=image/jpeg:https://www.jewishomaha.org/wp-content/uploads/2023/05/2023-Awards-Night-Annual-Meeting-12-pg.jpg
ORGANIZER;CN="Jessi Taylor":MAILTO:jtaylor@jewishomaha.org
END:VEVENT
END:VCALENDAR