BEGIN:VCALENDAR
VERSION:2.0
PRODID:-//Jewish Federation of Omaha - ECPv6.15.20//NONSGML v1.0//EN
CALSCALE:GREGORIAN
METHOD:PUBLISH
X-WR-CALNAME:Jewish Federation of Omaha
X-ORIGINAL-URL:https://www.jewishomaha.org
X-WR-CALDESC:Events for Jewish Federation of Omaha
REFRESH-INTERVAL;VALUE=DURATION:PT1H
X-Robots-Tag:noindex
X-PUBLISHED-TTL:PT1H
BEGIN:VTIMEZONE
TZID:UTC
BEGIN:STANDARD
TZOFFSETFROM:+0000
TZOFFSETTO:+0000
TZNAME:UTC
DTSTART:20220101T000000
END:STANDARD
END:VTIMEZONE
BEGIN:VEVENT
DTSTART;TZID=UTC:20230605T230000
DTEND;TZID=UTC:20230606T010000
DTSTAMP:20260425T161445
CREATED:20230531T161927Z
LAST-MODIFIED:20230531T171921Z
UID:3047-1686006000-1686013200@www.jewishomaha.org
SUMMARY:Annual Meeting & Awards Night
DESCRIPTION:Please join us Monday\, June 5 at 6:00 p.m. to celebrate our award recipients!\nEvent will be in the Alan J. Levine Performing Arts Theater. Pre and post event receptions at 6:00 p.m. and 8:00 p.m. hosted by the Jewish Federation of Omaha Foundation in honor of their Fabulous at 40 Anniversary.
URL:https://www.jewishomaha.org/event/annual-meeting-awards-night/
LOCATION:Alan J. Levine Performing Arts Theater\, 333 S. 132nd St.\, Omaha\, NE\, 68154
ATTACH;FMTTYPE=image/jpeg:https://www.jewishomaha.org/wp-content/uploads/2023/05/2023-Awards-Night-Annual-Meeting-12-pg.jpg
ORGANIZER;CN="Jessi Taylor":MAILTO:jtaylor@jewishomaha.org
END:VEVENT
END:VCALENDAR