BEGIN:VCALENDAR
VERSION:2.0
PRODID:-//Jewish Federation of Omaha - ECPv6.15.20//NONSGML v1.0//EN
CALSCALE:GREGORIAN
METHOD:PUBLISH
X-WR-CALNAME:Jewish Federation of Omaha
X-ORIGINAL-URL:https://www.jewishomaha.org
X-WR-CALDESC:Events for Jewish Federation of Omaha
REFRESH-INTERVAL;VALUE=DURATION:PT1H
X-Robots-Tag:noindex
X-PUBLISHED-TTL:PT1H
BEGIN:VTIMEZONE
TZID:UTC
BEGIN:STANDARD
TZOFFSETFROM:+0000
TZOFFSETTO:+0000
TZNAME:UTC
DTSTART:20220101T000000
END:STANDARD
END:VTIMEZONE
BEGIN:VEVENT
DTSTART;TZID=UTC:20231119T160000
DTEND;TZID=UTC:20231119T170000
DTSTAMP:20260425T161112
CREATED:20231109T222513Z
LAST-MODIFIED:20231109T222513Z
UID:3922-1700409600-1700413200@www.jewishomaha.org
SUMMARY:Let’s change that to\, Duties of the Heart with Rabbi Geiger
DESCRIPTION:Rabbi Geiger continues to guide you on a spiritual journey using “Duties of the Heart by Bahya ibn Paguda” to lead the way. In this second of an on-going series\, Rabbi Geiger first poses the question\, “How can one put the shackles of obligation on the most emotional part of ourselves: our heart?” Discover with him the greatest gift ever given to mankind. Then ponder the question\, “Is Judaism a religion of blind faith?”
URL:https://www.jewishomaha.org/event/lets-change-that-to-duties-of-the-heart-with-rabbi-geiger/
LOCATION:Benjamin & Anna E. Wiesman Family Reception Room\, 333 S. 132nd St.\, Omaha\, NE\, 68154
ATTACH;FMTTYPE=image/jpeg:https://www.jewishomaha.org/wp-content/uploads/2023/11/Rabbi-Geiger.jpg
END:VEVENT
BEGIN:VEVENT
DTSTART;TZID=UTC:20231116T170000
DTEND;TZID=UTC:20231116T200000
DTSTAMP:20260425T161112
CREATED:20231109T221500Z
LAST-MODIFIED:20231109T221500Z
UID:3912-1700154000-1700164800@www.jewishomaha.org
SUMMARY:2024 Annual Campaign Men's Event  All-Star Reception
DESCRIPTION:The Jewish Federation of Omaha is hosting a 2024 Annual Campaign All-Star Reception with event chairs Steve Levinger\, Jeff Kirshenbaum\, and John Glazer. Guests will meet Creighton University’s Assistant Basketball Coach Ryan Miller plus some of the Bluejay players!
URL:https://www.jewishomaha.org/event/2024-annual-campaign-mens-event-all-star-reception/
LOCATION:Let It Fly Sports Bar\, 1080 Capitol Ave\, Omaha\, NE\, 68102
ATTACH;FMTTYPE=image/jpeg:https://www.jewishomaha.org/wp-content/uploads/2023/10/Mens-Event.jpg
END:VEVENT
BEGIN:VEVENT
DTSTART;TZID=UTC:20231116T113000
DTEND;TZID=UTC:20231116T130000
DTSTAMP:20260425T161112
CREATED:20231109T222330Z
LAST-MODIFIED:20231109T222330Z
UID:3920-1700134200-1700139600@www.jewishomaha.org
SUMMARY:IHE's Third Thursday Lunch & Learn Series
DESCRIPTION:The Institute for Holocaust Education hosts Stephen Silberstein for their next Lunch & Learn program. He will present the story of his father\, Holocaust Survivor\, Michael Silberstein. Email slittky@ihene.org to RSVP
URL:https://www.jewishomaha.org/event/ihes-third-thursday-lunch-learn-series/
LOCATION:NE
ATTACH;FMTTYPE=image/jpeg:https://www.jewishomaha.org/wp-content/uploads/2022/10/IHE-logo-2C.jpg
END:VEVENT
BEGIN:VEVENT
DTSTART;TZID=UTC:20231115T190000
DTEND;TZID=UTC:20231115T200000
DTSTAMP:20260425T161112
CREATED:20231109T210524Z
LAST-MODIFIED:20231109T210524Z
UID:3910-1700074800-1700078400@www.jewishomaha.org
SUMMARY:Community Conversation with Kristofer Goldsmith
DESCRIPTION:Please join JCRC for a Community Conversation with Kristofer Goldsmith. He is the founder and CEO of Task Force Butler Institute\, a nonprofit organization that engages veterans in the hobby of maintaining a democracy\, and Sparverius LLC\, a veteran-owned firm that detects and disrupts disinformation and extremism threats against America.
URL:https://www.jewishomaha.org/event/community-conversation-with-kristofer-goldsmith/
LOCATION:Staenberg Kooper Fellman Campus\, 333 S. 132nd St.\, Omaha\, NE\, 68154
ATTACH;FMTTYPE=image/png:https://www.jewishomaha.org/wp-content/uploads/2023/10/Mock-up-Goldsmith.png
END:VEVENT
BEGIN:VEVENT
DTSTART;TZID=UTC:20231112T100000
DTEND;TZID=UTC:20231112T113000
DTSTAMP:20260425T161112
CREATED:20231109T221910Z
LAST-MODIFIED:20231109T221910Z
UID:3915-1699783200-1699788600@www.jewishomaha.org
SUMMARY:Thank You\, Helpers!
DESCRIPTION:Families with kids ages 6 and under in the Jewish community and at the ELC are invited to learn about the helpers in our community\, say thanks\, and touch a truck! Children and their grownups will read a PJ Library book about community helpers and make a special card to give to local first responders. Then\, we’ll head outside to “touch-a-truck” with representatives from the Omaha Fire Department and Douglas County Sheriff’s Office. Grandparents and siblings are welcome
URL:https://www.jewishomaha.org/event/thank-you-helpers/
LOCATION:Staenberg Kooper Fellman Campus\, 333 S. 132nd St.\, Omaha\, NE\, 68154
ATTACH;FMTTYPE=image/png:https://www.jewishomaha.org/wp-content/uploads/2023/11/PJ-Library-FJA-ThanksHelpers-01.png
ORGANIZER;CN="PJ Library":MAILTO:hheilbrunn@jewishomaha.org
END:VEVENT
BEGIN:VEVENT
DTSTART;TZID=UTC:20231029T223000
DTEND;TZID=UTC:20231030T020000
DTSTAMP:20260425T161112
CREATED:20230629T213649Z
LAST-MODIFIED:20230921T185547Z
UID:3231-1698618600-1698631200@www.jewishomaha.org
SUMMARY:2024 Annual Campaign Community Event
DESCRIPTION:Sunday Night Give!\nFeaturing\nRachel Dratch\nActress\, Writer\, and Comedian\nOctober\, 29\, 2023\n5:30 PM Meet & Greet with Rachel\n6:00 PM Cocktails\n6:30 PM Dinner – Star Catering Kosher Deli\n7:15 PM  Spirit of Federation Awards\n7:30 PM Keynote Speaker Rachel Dratch \nReservations are due by October 15. Limited seating is available. \nRegister Now\n 
URL:https://www.jewishomaha.org/event/2024-annual-campaign-community-event/
LOCATION:Alan J. Levine Performing Arts Theater\, 333 S. 132nd St.\, Omaha\, NE\, 68154
ATTACH;FMTTYPE=image/png:https://www.jewishomaha.org/wp-content/uploads/2023/06/Sunday-Night-Give-Oct-29.png
END:VEVENT
BEGIN:VEVENT
DTSTART;TZID=UTC:20231026T080000
DTEND;TZID=UTC:20231026T150000
DTSTAMP:20260425T161113
CREATED:20230621T161823Z
LAST-MODIFIED:20230802T161220Z
UID:3172-1698307200-1698332400@www.jewishomaha.org
SUMMARY:Promoting Empowerment in our World - PEW
DESCRIPTION:Students from different schools come together for an intensive one-day interactive training. The workshop is designed to empower students to take a stand against bias and bigotry by heightening their understanding of the manifestation of hate and enabling them to recognize and challenge bias in themselves and others. It is our hope that each student who participates in PEW will return to their schools as advocates for a world in which differences can be appreciated and respected. \nThe goals of this anti-bias workshop are to provide students with:\n\nAn understanding of bias and discrimination and the harm they inflict upon individuals and society.\nThe opportunity to explore biases and to take personal responsibility for combating bigotry and hate.\nTools to challenge the stereotypes and biases which can stop understanding.\nSafe environment to build bridges of understanding and new friendships among students who represent the spectrum of diversity – i.e.\, culture\, race\, religion\, sexual orientation\, and ability.\nTo create a spark in student leaders to carry out social justice\, anti-bias/anti-bullying activities at their school and in the community.\n\nThis event is by invitation only. For more information\, please contact pmonsky@jewishomaha.org
URL:https://www.jewishomaha.org/event/promoting-empowerment-in-our-world-pew/
LOCATION:Temple Israel Synagogue\, 13111 Sterling Ridge Drive\, Omaha\, NE\, 68144
ATTACH;FMTTYPE=image/gif:https://www.jewishomaha.org/wp-content/uploads/2023/06/Logo-wp.gif
END:VEVENT
BEGIN:VEVENT
DTSTART;TZID=UTC:20231013T073000
DTEND;TZID=UTC:20231013T090000
DTSTAMP:20260425T161113
CREATED:20230922T201940Z
LAST-MODIFIED:20230922T202052Z
UID:3653-1697182200-1697187600@www.jewishomaha.org
SUMMARY:Jewish Business Leaders Hall of Fame
DESCRIPTION:The Jewish Federation of Omaha invites the community to honor and celebrate the legacy of UNMC’s Dr. Jeffrey P. Gold at this induction into the Jewish Business Leaders Hall of Fame. \n\n\n\n\n\nJeffrey P. Gold\, MD\, is a nationally recognized leader and tireless advocate for transforming higher education\, academic medicine and health care delivery. He became the eighth chancellor of the University of Nebraska Medical Center\, vice president of the University of Nebraska System and chair of the board of UNMC’s principal clinical care academic health system partner\, Nebraska Medicine\, in early \n2014. He has been repeatedly recognized as a Top 50 Health Care Executive and as a Top 100 Physician Executive\, as well as many national awards for service leading numerous community volunteer programs\, philanthropic campaigns and programs. He has been married for more than 45 years to a physician and has two adult children. \n\n\n\n\n\n\n\n\nTHIS EVENT IS OPEN TO THE PUBLIC\nCost: $30 – If you are not a JBL member
URL:https://www.jewishomaha.org/event/jewish-business-leaders-hall-of-fame/
LOCATION:Happy Hollow Club\, 1701 S 105th St\, Omaha\, NE\, 68124
ATTACH;FMTTYPE=image/jpeg:https://www.jewishomaha.org/wp-content/uploads/2023/09/Outdoor-Display-JBL.jpg
ORGANIZER;CN="Jewish Business Leaders":MAILTO:jkatelman@jewishomaha.org
END:VEVENT
BEGIN:VEVENT
DTSTART;TZID=UTC:20230930T110000
DTEND;TZID=UTC:20230930T170000
DTSTAMP:20260425T161113
CREATED:20230719T180544Z
LAST-MODIFIED:20230719T180544Z
UID:3259-1696071600-1696093200@www.jewishomaha.org
SUMMARY:Out of the Darkness Walk
DESCRIPTION:Jewish Family Service is once again hosting a team for the American Foundation for Suicide Prevention’s (AFSP) Out of the Darkness Walk on Saturday\, September 30\, 2023. To join our team\, please click HERE. \nThis event is FREE to attend; however\, when registering you can to AFSP. Questions? Call JFS at (402) 330-2024.
URL:https://www.jewishomaha.org/event/out-of-the-darkness-walk/
LOCATION:Stinson Park\, 2285 S 67th St\, Omaha\, NE\, 68106
ATTACH;FMTTYPE=image/webp:https://www.jewishomaha.org/wp-content/uploads/2023/07/OutDarknessWalk.webp
ORGANIZER;CN="Jewish Family Service":MAILTO:htopil@jfsomaha.com
END:VEVENT
BEGIN:VEVENT
DTSTART;TZID=UTC:20230910T150000
DTEND;TZID=UTC:20230910T180000
DTSTAMP:20260425T161113
CREATED:20230802T160623Z
LAST-MODIFIED:20230802T162530Z
UID:3366-1694358000-1694368800@www.jewishomaha.org
SUMMARY:United We Walk
DESCRIPTION:United We Walk brings together people\, businesses\, and nonprofit partners to build trust and understanding in an enriching way. As a commemoration of the tragic events of 9/11\, the gathering of so many different groups and view points sends a clear message: “Hatred and violence toward anyone in our community will never be tolerated; we are always stronger together.” \nForm a team and bring banners\, signs\, t-shirts\, etc. — whatever helps you proudly express the beauty of your affiliations\, identities\, and communities! This is your chance to show up and show out\, Omaha! Let’s make this year’s walk one to remember.  JCRC and the JFO DEIA Committee are each sponsor of the event. \nFree registration\, $25 for registration with a t-shirt
URL:https://www.jewishomaha.org/event/united-we-walk/
LOCATION:Tri-Faith Commons\, 13136 Faith Plaza\, Faith Plz\,\, Omaha\, NE\, 68144
ATTACH;FMTTYPE=image/png:https://www.jewishomaha.org/wp-content/uploads/2023/08/UWW-Event-Handout-1.png
END:VEVENT
BEGIN:VEVENT
DTSTART;TZID=UTC:20230910T140000
DTEND;TZID=UTC:20230910T150000
DTSTAMP:20260425T161113
CREATED:20230802T183433Z
LAST-MODIFIED:20230802T183433Z
UID:3379-1694354400-1694358000@www.jewishomaha.org
SUMMARY:Sundays with Shani & Mushka
DESCRIPTION:Join Shani Katzman & Mushka Tenenbaum for this enlightening 3-part learning series. Kosher snacks will be provided. \nNow What?– High Holidays Part 3 \nRegister with Mushka at: mushka@ochabab.com
URL:https://www.jewishomaha.org/event/sundays-with-shani-mushka-2/
LOCATION:Benjamin & Anna E. Wiesman Family Reception Room\, 333 S. 132nd St.\, Omaha\, NE\, 68154
ATTACH;FMTTYPE=image/jpeg:https://www.jewishomaha.org/wp-content/uploads/2023/08/Sundays-with-Shani-and-Mushka.jpg
ORGANIZER;CN="Chabad":MAILTO:mushka@ochabab.com
END:VEVENT
BEGIN:VEVENT
DTSTART;TZID=UTC:20230827T170000
DTEND;TZID=UTC:20230827T190000
DTSTAMP:20260425T161113
CREATED:20230719T181444Z
LAST-MODIFIED:20230802T160917Z
UID:3270-1693155600-1693162800@www.jewishomaha.org
SUMMARY:Backyard Concert Series: Omaha Beat Brigade
DESCRIPTION:Sundays in August\, 5:00- 7:00 p.m. | JCC Pavilion\nAugust 27: Omaha Beat Brigade \nThe Backyard Concert Series is back! Concerts are held in the green space on the east side of campus (near the JCC pavilion) and are open to the entire community. Simply show up and enjoy. Dante and Kona will be back\, as well as additional food trucks each week. The playground\, gaga pits\, and lawn games will all be available\, providing fun for the whole family!
URL:https://www.jewishomaha.org/event/backyard-concert-series-omaha-beat-brigade/
LOCATION:Staenberg Kooper Fellman Campus\, 333 S. 132nd St.\, Omaha\, NE\, 68154
ATTACH;FMTTYPE=image/png:https://www.jewishomaha.org/wp-content/uploads/2022/11/238934213_4749185348448484_2328310775372058647_n-1.png
END:VEVENT
BEGIN:VEVENT
DTSTART;TZID=UTC:20230827T140000
DTEND;TZID=UTC:20230827T150000
DTSTAMP:20260425T161113
CREATED:20230802T183320Z
LAST-MODIFIED:20230802T183524Z
UID:3377-1693144800-1693148400@www.jewishomaha.org
SUMMARY:Sundays with Shani & Mushka
DESCRIPTION:Join Shani Katzman & Mushka Tenenbaum for this enlightening 3-part learning series. Kosher snacks will be provided. \nCan the Breach Be Reconciled?– High Holidays Part 2 \nRegister with Mushka at: mushka@ochabab.com
URL:https://www.jewishomaha.org/event/sundays-with-shani-mushka/
LOCATION:Benjamin & Anna E. Wiesman Family Reception Room\, 333 S. 132nd St.\, Omaha\, NE\, 68154
ATTACH;FMTTYPE=image/jpeg:https://www.jewishomaha.org/wp-content/uploads/2023/08/Sundays-with-Shani-and-Mushka.jpg
ORGANIZER;CN="Chabad":MAILTO:mushka@ochabab.com
END:VEVENT
BEGIN:VEVENT
DTSTART;TZID=UTC:20230820T170000
DTEND;TZID=UTC:20230820T190000
DTSTAMP:20260425T161113
CREATED:20230719T181335Z
LAST-MODIFIED:20230802T160845Z
UID:3268-1692550800-1692558000@www.jewishomaha.org
SUMMARY:Backyard Concert Series: Personics
DESCRIPTION:Sundays in August\, 5:00- 7:00 p.m. | JCC Pavilion\nAugust 20: Personics\nAugust 27: Omaha Beat Brigade \nThe Backyard Concert Series is back! Concerts are held in the green space on the east side of campus (near the JCC pavilion) and are open to the entire community. Simply show up and enjoy. Dante and Kona will be back\, as well as additional food trucks each week. The playground\, gaga pits\, and lawn games will all be available\, providing fun for the whole family!
URL:https://www.jewishomaha.org/event/backyard-concert-series-personics/
LOCATION:Staenberg Kooper Fellman Campus\, 333 S. 132nd St.\, Omaha\, NE\, 68154
ATTACH;FMTTYPE=image/png:https://www.jewishomaha.org/wp-content/uploads/2022/11/238934213_4749185348448484_2328310775372058647_n-1.png
END:VEVENT
BEGIN:VEVENT
DTSTART;TZID=UTC:20230820T160000
DTEND;TZID=UTC:20230820T170000
DTSTAMP:20260425T161113
CREATED:20230620T221033Z
LAST-MODIFIED:20230806T183601Z
UID:3074-1692547200-1692550800@www.jewishomaha.org
SUMMARY:Dog Fest
DESCRIPTION:Dog Fest – Celebrate the dog days of summer! RSVP here! \nBring your pooch to play\, meet other dogs\, and enjoy treats before the Backyard Concert! \nCanine friends will “dig” these giveaways and activities: \n\nPup cups\nDoggie photo booth\nFrisbees and bandanas\nHave the most polite dog on the block! Meet with Mind Your Manners Pet Training\n\nEach dog that attends will receive yummy party favors to take home! And for the people that love them\, the Kona Ice Truck will be here! \nA few easy rules: Please keep your dog on a leash and bring your own dog poop bags!
URL:https://www.jewishomaha.org/event/dog-fest/
LOCATION:Staenberg Kooper Fellman Campus\, 333 S. 132nd St.\, Omaha\, NE\, 68154
ATTACH;FMTTYPE=image/jpeg:https://www.jewishomaha.org/wp-content/uploads/2023/07/DogFest-Event-images.jpg
END:VEVENT
BEGIN:VEVENT
DTSTART;TZID=UTC:20230820T140000
DTEND;TZID=UTC:20230820T150000
DTSTAMP:20260425T161113
CREATED:20230802T183118Z
LAST-MODIFIED:20230802T183450Z
UID:3373-1692540000-1692543600@www.jewishomaha.org
SUMMARY:Sundays with Shani and Mushka
DESCRIPTION:Join Shani Katzman & Mushka Tenenbaum for this enlightening 3-part learning series. Kosher snacks will be provided. \nThe Love Story – High Holidays Part 1 \nHave you ever thought of the High Holidays as a love story? Shani and Mushka will discuss why this is so. \nRegister with Mushka at: mushka@ochabab.com
URL:https://www.jewishomaha.org/event/sundays-with-shani-and-mushka/
LOCATION:Benjamin & Anna E. Wiesman Family Reception Room\, 333 S. 132nd St.\, Omaha\, NE\, 68154
ATTACH;FMTTYPE=image/jpeg:https://www.jewishomaha.org/wp-content/uploads/2023/08/Sundays-with-Shani-and-Mushka.jpg
ORGANIZER;CN="Chabad":MAILTO:mushka@ochabab.com
END:VEVENT
BEGIN:VEVENT
DTSTART;TZID=UTC:20230813T170000
DTEND;TZID=UTC:20230813T190000
DTSTAMP:20260425T161113
CREATED:20230719T181216Z
LAST-MODIFIED:20230813T214340Z
UID:3266-1691946000-1691953200@www.jewishomaha.org
SUMMARY:Backyard Concert Series: Omaha Big Band
DESCRIPTION:Sundays in August\, 5:00- 7:00 p.m. | JCC Pavilion\nAugust 13: Omaha Big Band | Back to School Bash – CANCELED DUE TO WEATHERBeth El Synagogue\, Beth Israel Synagogue\, Friedel Jewish Academy\, Pennie Z. Davis Early Learning Center\, and Temple Israel invite students and their families to celebrate the new school year together. Education staff will be on hand to greet families. \n 
URL:https://www.jewishomaha.org/event/backyard-concert-series-2/
LOCATION:Staenberg Kooper Fellman Campus\, 333 S. 132nd St.\, Omaha\, NE\, 68154
ATTACH;FMTTYPE=image/png:https://www.jewishomaha.org/wp-content/uploads/2022/11/238934213_4749185348448484_2328310775372058647_n-1.png
END:VEVENT
BEGIN:VEVENT
DTSTART;TZID=UTC:20230811T000000
DTEND;TZID=UTC:20230811T020000
DTSTAMP:20260425T161113
CREATED:20230802T155831Z
LAST-MODIFIED:20230809T182732Z
UID:3362-1691712000-1691719200@www.jewishomaha.org
SUMMARY:Community Conversations: Welcoming the Stranger\, Refugee Resettlement in Nebraska
DESCRIPTION:Email Pam Monsky to register: pmonsky@jewishomaha.org \nPlease join the Jewish Community Relations Council (JCRC) on Thursday\, August 10 at 7pm\, in the Alan Levine Theater at the Staenberg Omaha JCC\, for  the next in the JCRC’s series of Community Conversations about compelling\, current topics impacting the Jewish community of Omaha.  We are honored and thrilled to launch “Welcoming the Stranger.” This initiative will focus on assisting  two or more of the 40 refugee families arriving in Omaha from Ukraine\, Afghanistan\, Democratic Republic of Congo and Syria between now and October 1.  The JCRC is coordinating a Jewish community volunteer effort to help sponsor families\, provide furniture and household items and set up apartments. \nWe will begin by introducing the community to the  2020 documentary film “A Home Called Nebraska.” After the film\, JCRC board member Lacey Studnicka\, Program Director at Habitat for Humanity\, will lead a conversation about refugee resettlement and the many volunteer opportunities available to assist in this community-wide mitzvah project.
URL:https://www.jewishomaha.org/event/community-conversations-welcoming-the-stranger-refugee-resettlement-in-nebraska/
LOCATION:Alan J. Levine Performing Arts Theater\, 333 S. 132nd St.\, Omaha\, NE\, 68154
ATTACH;FMTTYPE=image/png:https://www.jewishomaha.org/wp-content/uploads/2023/08/Ukraine-refugee-family-HALF-SIZE.png
END:VEVENT
BEGIN:VEVENT
DTSTART;TZID=UTC:20230806T170000
DTEND;TZID=UTC:20230806T190000
DTSTAMP:20260425T161113
CREATED:20230719T181050Z
LAST-MODIFIED:20230719T181537Z
UID:3263-1691341200-1691348400@www.jewishomaha.org
SUMMARY:Backyard Concert Series: Wood Hoops
DESCRIPTION:Sundays in August\, 5:00- 7:00 p.m. | JCC Pavilion\nAugust 6: Wood Hoops (+ Dog Fest sponsored by JFO) \nAugust 13: Omaha Big Band\nAugust 20: Personics\nAugust 27: Omaha Beat Brigade \nThe Backyard Concert Series is back! Concerts are held in the green space on the east side of campus (near the JCC pavilion) and are open to the entire community. Simply show up and enjoy. Dante and Kona will be back\, as well as additional food trucks each week. The playground\, gaga pits\, and lawn games will all be available\, providing fun for the whole family!
URL:https://www.jewishomaha.org/event/backyard-concert-series/
LOCATION:Staenberg Kooper Fellman Campus\, 333 S. 132nd St.\, Omaha\, NE\, 68154
ATTACH;FMTTYPE=image/png:https://www.jewishomaha.org/wp-content/uploads/2022/11/238934213_4749185348448484_2328310775372058647_n-1.png
END:VEVENT
BEGIN:VEVENT
DTSTART;TZID=UTC:20230802T180000
DTEND;TZID=UTC:20230802T193000
DTSTAMP:20260425T161113
CREATED:20230713T200525Z
LAST-MODIFIED:20230714T134514Z
UID:3249-1690999200-1691004600@www.jewishomaha.org
SUMMARY:Tu B’Av Celebration
DESCRIPTION:Wine and Expressive Arts event for people and their special someone! 21 and over only. Call Heather to reserve spots at (402) 330-2024. The suggested donation is $20 per couple.
URL:https://www.jewishomaha.org/event/tu-bav-celebration/
LOCATION:Staenberg Kooper Fellman Campus\, 333 S. 132nd St.\, Omaha\, NE\, 68154
ATTACH;FMTTYPE=image/png:https://www.jewishomaha.org/wp-content/uploads/2023/07/image001-e1689342308285.png
ORGANIZER;CN="Jewish Family Service":MAILTO:htopil@jfsomaha.com
END:VEVENT
BEGIN:VEVENT
DTSTART;TZID=UTC:20230730T110000
DTEND;TZID=UTC:20230730T120000
DTSTAMP:20260425T161113
CREATED:20230601T211916Z
LAST-MODIFIED:20230601T211916Z
UID:3113-1690714800-1690718400@www.jewishomaha.org
SUMMARY:Dedication of the Tichauer Garden
DESCRIPTION:
URL:https://www.jewishomaha.org/event/dedication-of-the-tichauer-garden/
LOCATION:Staenberg Kooper Fellman Campus\, 333 S. 132nd St.\, Omaha\, NE\, 68154
END:VEVENT
BEGIN:VEVENT
DTSTART;TZID=UTC:20230723T090000
DTEND;TZID=UTC:20230723T110000
DTSTAMP:20260425T161113
CREATED:20230719T182716Z
LAST-MODIFIED:20230719T182716Z
UID:3274-1690102800-1690110000@www.jewishomaha.org
SUMMARY:J Brunch: Pancake Man Returns
DESCRIPTION:Kids under age 3 and under eat free\, ticket purchase required of guardians for entry. Pancakes by the pool featuring the legendary Pancake Man! Bring the whole family for brunch on the pool deck. In addition to pancakes\, coffee\, juice\, and water will be available. Once you’re done eating\, take a dip in the pool with special early access! Regular pool policies apply. Early family swim access is ONLY for those attending this event. Payment is required to enter pool early\, even if not eating.
URL:https://www.jewishomaha.org/event/j-brunch-pancake-man-returns/
LOCATION:JCC Goldstein Family Aquatic Center\, 333 S. 132nd St.\, Omaha\, NE\, 68154
ATTACH;FMTTYPE=image/jpeg:https://www.jewishomaha.org/wp-content/uploads/2023/07/J-Brunch-pancakes-by-the-pool-Sq-scaled-1.jpg
END:VEVENT
BEGIN:VEVENT
DTSTART;TZID=UTC:20230720T140000
DTEND;TZID=UTC:20230721T040000
DTSTAMP:20260425T161113
CREATED:20230713T192749Z
LAST-MODIFIED:20230713T193940Z
UID:3244-1689861600-1689912000@www.jewishomaha.org
SUMMARY:Babies & Bagels
DESCRIPTION:Join us to connect with other parents of children 18 months and younger. Everyone who registers will receive a Shalom Baby gift bag. RSVP by July 13 here!
URL:https://www.jewishomaha.org/event/babies-bagels/
LOCATION:Benjamin & Anna E. Wiesman Family Reception Room\, 333 S. 132nd St.\, Omaha\, NE\, 68154
ATTACH;FMTTYPE=image/jpeg:https://www.jewishomaha.org/wp-content/uploads/2023/07/Bagels-Babies-calendar-scaled.jpg
ORGANIZER;CN="PJ Library":MAILTO:hheilbrunn@jewishomaha.org
END:VEVENT
BEGIN:VEVENT
DTSTART;TZID=UTC:20230720T130000
DTEND;TZID=UTC:20230720T140000
DTSTAMP:20260425T161113
CREATED:20230601T211730Z
LAST-MODIFIED:20230601T211730Z
UID:3111-1689858000-1689861600@www.jewishomaha.org
SUMMARY:Dorothy Kaplan Book Discussion Group
DESCRIPTION:The Dorothy Kaplan Book Discussion group now meets in the Weisman Classroom in the Omaha JCC on the third Thursday of every month at 1 pm. Until further notice\, we will continue to welcome online participants via Zoom.  New members are always welcome. The group receives administrative support from the Community Engagement & Education arm of the Jewish Federation of Omaha. For information about the group including the schedule of books\, contact Shirly Banner at (402) 334-6462 or sbanner@jewishomaha.org
URL:https://www.jewishomaha.org/event/dorothy-kaplan-book-discussion-group-2/
LOCATION:Benjamin & Anna E. Wiesman Family Reception Room\, 333 S. 132nd St.\, Omaha\, NE\, 68154
END:VEVENT
BEGIN:VEVENT
DTSTART;TZID=UTC:20230719T123000
DTEND;TZID=UTC:20230719T140000
DTSTAMP:20260425T161113
CREATED:20230601T210710Z
LAST-MODIFIED:20230629T213233Z
UID:3103-1689769800-1689775200@www.jewishomaha.org
SUMMARY:Jewish Business Bagels & Breakfast
DESCRIPTION:Brandeis Story: Featuring Kathy & Ted Baer\, Steve Seline\, Walnut Private Equity Partners
URL:https://www.jewishomaha.org/event/jewish-business-bagels-breakfast/
LOCATION:Staenberg Kooper Fellman Campus\, 333 S. 132nd St.\, Omaha\, NE\, 68154
ATTACH;FMTTYPE=image/png:https://www.jewishomaha.org/wp-content/uploads/2023/04/JBL-logo-01.png
ORGANIZER;CN="Jewish Business Leaders":MAILTO:jkatelman@jewishomaha.org
END:VEVENT
BEGIN:VEVENT
DTSTART;TZID=UTC:20230718T183000
DTEND;TZID=UTC:20230718T200000
DTSTAMP:20260425T161113
CREATED:20230629T212907Z
LAST-MODIFIED:20230629T213015Z
UID:3226-1689705000-1689710400@www.jewishomaha.org
SUMMARY:L'chaim Israeli Spirits Series
DESCRIPTION:Join Sivan Cohen Omaha community shlicha for a tasting of 3 Israeli wines\, paired with French desserts by Pastry chef Yuvi Kolbar with Yuvi’s Bake Shop.
URL:https://www.jewishomaha.org/event/lchaim-israeli-spirits-series/
LOCATION:NE
ATTACH;FMTTYPE=image/jpeg:https://www.jewishomaha.org/wp-content/uploads/2023/06/LChaim-Wine-Dessert.jpg
ORGANIZER;CN="Sivan Cohen":MAILTO:scohen@jewishomaha.org
END:VEVENT
BEGIN:VEVENT
DTSTART;TZID=UTC:20230716T210000
DTEND;TZID=UTC:20230716T223000
DTSTAMP:20260425T161113
CREATED:20230601T211205Z
LAST-MODIFIED:20230626T143004Z
UID:3108-1689541200-1689546600@www.jewishomaha.org
SUMMARY:With Heart In Hand
DESCRIPTION:To celebrate The Foundation’s 40th Anniversary\, we are hosting a yearlong calendar of events. With Heart In Hand is a conversation in the round with our community rabbis. They will unpack the meaning of tzedakah beyond the blue box. \nREGISTER
URL:https://www.jewishomaha.org/event/with-heart-in-hand/
LOCATION:Shirley & Leonard Goldstein Community Engagement Venue\, 333 S. 132nd St.\, Omaha\, NE\, 68154
ATTACH;FMTTYPE=image/png:https://www.jewishomaha.org/wp-content/uploads/2023/05/Screen-Shot-2023-05-31-at-12.28.00-PM-e1685554125110.png
ORGANIZER;CN="Jewish Federation of Omaha Foundation":MAILTO:ashivvers@jewishomaha.org
END:VEVENT
BEGIN:VEVENT
DTSTART;TZID=UTC:20230716T150000
DTEND;TZID=UTC:20230716T160000
DTSTAMP:20260425T161113
CREATED:20230629T212011Z
LAST-MODIFIED:20230629T212011Z
UID:3222-1689519600-1689523200@www.jewishomaha.org
SUMMARY:Eye on Israel: Galilee Medical Center
DESCRIPTION:
URL:https://www.jewishomaha.org/event/eye-on-israel-galilee-medical-center/
LOCATION:NE
ATTACH;FMTTYPE=image/jpeg:https://www.jewishomaha.org/wp-content/uploads/2023/06/Eye-on-Israel-P2G.jpg
ORGANIZER;CN="Sivan Cohen":MAILTO:scohen@jewishomaha.org
END:VEVENT
BEGIN:VEVENT
DTSTART;TZID=UTC:20230627T230000
DTEND;TZID=UTC:20230628T010000
DTSTAMP:20260425T161113
CREATED:20230531T170538Z
LAST-MODIFIED:20230626T142755Z
UID:3070-1687906800-1687914000@www.jewishomaha.org
SUMMARY:Planting Joy
DESCRIPTION:Join us in celebrating the wonderful women who make up our community! \n6:00 PM Cocktails & Hors D’oeuvres\n6:45 PM Build your own moss terrarium workshop with Moss Hunters\n7:30 PM Cocktails & Desserts \nEvent Chairs: Mindi Marburg & Brooklyn Armstrong\, Toba Cohen-Dunning & Eleanor Dunning\, Rita Yaffe & Caryn Scheer \nThis event is supported by the Special Donor-Advised Fund of the Jewish Federation of Omaha Foundation. \nREGISTER
URL:https://www.jewishomaha.org/event/community-event/
LOCATION:Lauritzen Gardens\, 100 Bancroft St.\, Omaha\, NE\, 68108
ATTACH;FMTTYPE=image/jpeg:https://www.jewishomaha.org/wp-content/uploads/2023/05/Planting-Joy.jpg
ORGANIZER;CN="Rachel  Ring":MAILTO:rring@jewishomaha.org
END:VEVENT
BEGIN:VEVENT
DTSTART;TZID=UTC:20230616T000000
DTEND;TZID=UTC:20230616T030000
DTSTAMP:20260425T161113
CREATED:20230531T165818Z
LAST-MODIFIED:20230531T171818Z
UID:3067-1686873600-1686884400@www.jewishomaha.org
SUMMARY:BGS Sip & Dip Summer Soiree
DESCRIPTION:You’re Invited poolside \nGoldstein Family Outdoor  Aquatic Center at the JCC\nStaenberg Kooper Fellman Campus\n333 South 132nd Street \n\n\nMust be 21+ to attend\nAttire: poolside casual; remember your swimsuit!
URL:https://www.jewishomaha.org/event/bgs-sip-dip-summer-soiree/
LOCATION:Goldstein Family Outdoor Aquatic Center\, 333 S. 132nd St.\, Omaha\, NE\, 68154
ATTACH;FMTTYPE=image/jpeg:https://www.jewishomaha.org/wp-content/uploads/2023/05/BGS-Sip-Dip.jpg
END:VEVENT
END:VCALENDAR