BEGIN:VCALENDAR
VERSION:2.0
PRODID:-//Jewish Federation of Omaha - ECPv6.15.20//NONSGML v1.0//EN
CALSCALE:GREGORIAN
METHOD:PUBLISH
X-ORIGINAL-URL:https://www.jewishomaha.org
X-WR-CALDESC:Events for Jewish Federation of Omaha
REFRESH-INTERVAL;VALUE=DURATION:PT1H
X-Robots-Tag:noindex
X-PUBLISHED-TTL:PT1H
BEGIN:VTIMEZONE
TZID:UTC
BEGIN:STANDARD
TZOFFSETFROM:+0000
TZOFFSETTO:+0000
TZNAME:UTC
DTSTART:20250101T000000
END:STANDARD
END:VTIMEZONE
BEGIN:VEVENT
DTSTART;TZID=UTC:20260416T100000
DTEND;TZID=UTC:20260416T110000
DTSTAMP:20260424T134303
CREATED:20260323T162044Z
LAST-MODIFIED:20260323T162044Z
UID:7130-1776333600-1776337200@www.jewishomaha.org
SUMMARY:PJ Library Babies & Bagels
DESCRIPTION:Join us to enjoy post Passover treats\, read a story together\, and enjoy relaxed time connecting with one another. This event is designed for babies under 2 and their parents or caregivers.
URL:https://www.jewishomaha.org/event/pj-library-babies-bagels/
LOCATION:Benjamin & Anna E. Wiesman Family Reception Room\, 333 S. 132nd St.\, Omaha\, NE\, 68154
ATTACH;FMTTYPE=image/jpeg:https://www.jewishomaha.org/wp-content/uploads/2026/03/Event-images-Babies-Bagels.jpg
ORGANIZER;CN="PJ Library":MAILTO:hheilbrunn@jewishomaha.org
END:VEVENT
END:VCALENDAR