BEGIN:VCALENDAR
VERSION:2.0
PRODID:-//Jewish Federation of Omaha - ECPv6.15.20//NONSGML v1.0//EN
CALSCALE:GREGORIAN
METHOD:PUBLISH
X-ORIGINAL-URL:https://www.jewishomaha.org
X-WR-CALDESC:Events for Jewish Federation of Omaha
REFRESH-INTERVAL;VALUE=DURATION:PT1H
X-Robots-Tag:noindex
X-PUBLISHED-TTL:PT1H
BEGIN:VTIMEZONE
TZID:UTC
BEGIN:STANDARD
TZOFFSETFROM:+0000
TZOFFSETTO:+0000
TZNAME:UTC
DTSTART:20250101T000000
END:STANDARD
END:VTIMEZONE
BEGIN:VEVENT
DTSTART;TZID=UTC:20260330T180000
DTEND;TZID=UTC:20260330T200000
DTSTAMP:20260424T134327
CREATED:20260303T202746Z
LAST-MODIFIED:20260303T210141Z
UID:6991-1774893600-1774900800@www.jewishomaha.org
SUMMARY:Jewish Author Event
DESCRIPTION:Author Talk with B.A. Shapiro about her most recent novel\, The Lost Masterpiece \nMonday\, March 30 | 6:00 pm at the Jewish Federation of Omaha \nDiscover the truth behind a stolen masterpiece — a painting that refuses to stay silent. When Tamara Rubin inherits Party on the Seine\, she unlocks a century-old secret tied to forbidden love\, artistic genius\, and a vengeful spirit who still has unfinished business. Dive into a thrilling world where art remembers everything — and refuses to let the past die. \nRegistration required- $18 per person\nRegistration required before March 26 \nIncludes appetizers\, desserts and beverages. Books will be available for purchase at the event. \nRegister: https://fundraise.givesmart.com/form/Ajut2g?vid=1p1lxl
URL:https://www.jewishomaha.org/event/jewish-author-event-2/
LOCATION:Jewish Federation of Omaha\, 333 S 132nd Street\, Omaha\, NE\, 68154\, United States
ATTACH;FMTTYPE=image/png:https://www.jewishomaha.org/wp-content/uploads/2026/03/2026-Author-Event-header.png
END:VEVENT
END:VCALENDAR