BEGIN:VCALENDAR
VERSION:2.0
PRODID:-//Jewish Federation of Omaha - ECPv6.15.20//NONSGML v1.0//EN
CALSCALE:GREGORIAN
METHOD:PUBLISH
X-WR-CALNAME:Jewish Federation of Omaha
X-ORIGINAL-URL:https://www.jewishomaha.org
X-WR-CALDESC:Events for Jewish Federation of Omaha
REFRESH-INTERVAL;VALUE=DURATION:PT1H
X-Robots-Tag:noindex
X-PUBLISHED-TTL:PT1H
BEGIN:VTIMEZONE
TZID:UTC
BEGIN:STANDARD
TZOFFSETFROM:+0000
TZOFFSETTO:+0000
TZNAME:UTC
DTSTART:20250101T000000
END:STANDARD
END:VTIMEZONE
BEGIN:VEVENT
DTSTART;TZID=UTC:20260306T113000
DTEND;TZID=UTC:20260306T130000
DTSTAMP:20260424T151725
CREATED:20251230T182811Z
LAST-MODIFIED:20251230T182811Z
UID:6783-1772796600-1772802000@www.jewishomaha.org
SUMMARY:Star Kosher Deli
DESCRIPTION:Open for in-person dining today at the Rose Blumkin Jewish Home – 323 S 132nd St \nToday’s Special: Cabbage Rolls  \nView Menu\nStar Deli dishes up (among other delights) overstuffed corned beef\, pastrami and smoked turkey sandwiches\, matzah ball soup\, salad platters\, Dr. Brown’s assorted sodas\, plus toothsome desserts and specials like Prime Rib\, Chicken Pot Pie\, Smoked Brisket\, and Chili with Cornbread. We also sell delectable Glatt Kosher meats by the pound. The Deli welcomes everyone in the Jewish community and the larger Omaha area community to join us for lunch. \nFor more information about Star Catering or to pre-order take-out from the Kosher Deli at the Rose Blumkin Jewish Home\, please email Jennifer Addison at jaddison@rbjh.com
URL:https://www.jewishomaha.org/event/star-kosher-deli-4/
LOCATION:Rose Blumkin Jewish Home\, 323 South 132nd Street\, Omaha\, 68154\, United States
ATTACH;FMTTYPE=image/jpeg:https://www.jewishomaha.org/wp-content/uploads/2025/02/Deli-Open.jpg
END:VEVENT
END:VCALENDAR