BEGIN:VCALENDAR
VERSION:2.0
PRODID:-//Jewish Federation of Omaha - ECPv6.15.20//NONSGML v1.0//EN
CALSCALE:GREGORIAN
METHOD:PUBLISH
X-ORIGINAL-URL:https://www.jewishomaha.org
X-WR-CALDESC:Events for Jewish Federation of Omaha
REFRESH-INTERVAL;VALUE=DURATION:PT1H
X-Robots-Tag:noindex
X-PUBLISHED-TTL:PT1H
BEGIN:VTIMEZONE
TZID:UTC
BEGIN:STANDARD
TZOFFSETFROM:+0000
TZOFFSETTO:+0000
TZNAME:UTC
DTSTART:20250101T000000
END:STANDARD
END:VTIMEZONE
BEGIN:VEVENT
DTSTART;TZID=UTC:20260106T180000
DTEND;TZID=UTC:20260106T200000
DTSTAMP:20260424T154624
CREATED:20251230T225031Z
LAST-MODIFIED:20251230T225140Z
UID:6787-1767722400-1767729600@www.jewishomaha.org
SUMMARY:NextGen First Tuesday
DESCRIPTION:Join us at our first event of the year on Tuesday\, January 6th\, for outdoor ice skating at the Riverfront Ice Skate Ribbon! \nFirst Tuesday isn’t just about getting together—it’s also an excuse to try new things and explore new venues in Omaha. In 2026\, we’ve lined up an exciting calendar of events designed to keep things fresh and fun every month. Whether it’s outdoor ice skating\, making mixed cocktails\, learning to play pickleball or meeting up for a casual drink\, there’s always something happening the first Tuesday of each month! No pressure\, no expectations—just good vibes\, laughter\, and time to catch up with friends. If you’re a young adult looking for a way to connect\, this is your invitation to join us!
URL:https://www.jewishomaha.org/event/nextgen-first-tuesday/
LOCATION:Riverfront Ice Skate Ribbon\, South 8th Street & Farnam Street\, Omaha\, United States
ATTACH;FMTTYPE=image/jpeg:https://www.jewishomaha.org/wp-content/uploads/2025/12/First-Tuesdays-2026.jpg
END:VEVENT
END:VCALENDAR