BEGIN:VCALENDAR
VERSION:2.0
PRODID:-//Jewish Federation of Omaha - ECPv6.15.20//NONSGML v1.0//EN
CALSCALE:GREGORIAN
METHOD:PUBLISH
X-ORIGINAL-URL:https://www.jewishomaha.org
X-WR-CALDESC:Events for Jewish Federation of Omaha
REFRESH-INTERVAL;VALUE=DURATION:PT1H
X-Robots-Tag:noindex
X-PUBLISHED-TTL:PT1H
BEGIN:VTIMEZONE
TZID:UTC
BEGIN:STANDARD
TZOFFSETFROM:+0000
TZOFFSETTO:+0000
TZNAME:UTC
DTSTART:20240101T000000
END:STANDARD
END:VTIMEZONE
BEGIN:VEVENT
DTSTART;TZID=UTC:20251210T190000
DTEND;TZID=UTC:20251210T203000
DTSTAMP:20260424T165216
CREATED:20251119T173043Z
LAST-MODIFIED:20251119T173043Z
UID:6633-1765393200-1765398600@www.jewishomaha.org
SUMMARY:Understanding Intergenerational Trauma
DESCRIPTION:Speaker: Kelly Kirk\, Chair\, Institute for Holocaust Education \nKelly Kirk will lead a thought-provoking discussion on the complexities of intergenerational trauma\, drawing from her graduate research in Holocaust and Genocide Studies and her personal family history as all four of her grandparents were Holocaust survivors. Through her presentation\, participants will gain deeper insight into how trauma reverberates through generations and the ongoing process of resilience and remembrance.
URL:https://www.jewishomaha.org/event/understanding-intergenerational-trauma/
LOCATION:Benjamin & Anna E. Wiesman Family Reception Room\, 333 S. 132nd St.\, Omaha\, NE\, 68154
ATTACH;FMTTYPE=image/jpeg:https://www.jewishomaha.org/wp-content/uploads/2025/11/What-We-Carry-Event-images.jpg
ORGANIZER;CN="Jewish Family Service":MAILTO:htopil@jfsomaha.com
END:VEVENT
END:VCALENDAR