BEGIN:VCALENDAR
VERSION:2.0
PRODID:-//Jewish Federation of Omaha - ECPv6.15.20//NONSGML v1.0//EN
CALSCALE:GREGORIAN
METHOD:PUBLISH
X-ORIGINAL-URL:https://www.jewishomaha.org
X-WR-CALDESC:Events for Jewish Federation of Omaha
REFRESH-INTERVAL;VALUE=DURATION:PT1H
X-Robots-Tag:noindex
X-PUBLISHED-TTL:PT1H
BEGIN:VTIMEZONE
TZID:UTC
BEGIN:STANDARD
TZOFFSETFROM:+0000
TZOFFSETTO:+0000
TZNAME:UTC
DTSTART:20240101T000000
END:STANDARD
END:VTIMEZONE
BEGIN:VEVENT
DTSTART;TZID=UTC:20251208T173000
DTEND;TZID=UTC:20251208T193000
DTSTAMP:20260424T165215
CREATED:20251119T164526Z
LAST-MODIFIED:20251119T164526Z
UID:6625-1765215000-1765222200@www.jewishomaha.org
SUMMARY:JBL Pre-Hanukkah Happy Hour
DESCRIPTION:JBL Members – Thank you for all of your incredible support throughout the year. We’re hosting a special\, free event to show our appreciation. Come for some holiday cheer\, a little mingling\, and great conversation! Drinks are on us! JBL members and their guests are all welcome.
URL:https://www.jewishomaha.org/event/jbl-pre-hanukkah-happy-hour/
LOCATION:CEDAR\, 8726 Countryside Plaza\, Omaha\, NE\, 68154\, United States
ATTACH;FMTTYPE=image/jpeg:https://www.jewishomaha.org/wp-content/uploads/2025/11/JBL-HH-Event-images.jpg
ORGANIZER;CN="Jewish Business Leaders":MAILTO:jkatelman@jewishomaha.org
END:VEVENT
END:VCALENDAR