BEGIN:VCALENDAR
VERSION:2.0
PRODID:-//Jewish Federation of Omaha - ECPv6.15.20//NONSGML v1.0//EN
CALSCALE:GREGORIAN
METHOD:PUBLISH
X-ORIGINAL-URL:https://www.jewishomaha.org
X-WR-CALDESC:Events for Jewish Federation of Omaha
REFRESH-INTERVAL;VALUE=DURATION:PT1H
X-Robots-Tag:noindex
X-PUBLISHED-TTL:PT1H
BEGIN:VTIMEZONE
TZID:UTC
BEGIN:STANDARD
TZOFFSETFROM:+0000
TZOFFSETTO:+0000
TZNAME:UTC
DTSTART:20240101T000000
END:STANDARD
END:VTIMEZONE
BEGIN:VEVENT
DTSTART;TZID=UTC:20251030T190000
DTEND;TZID=UTC:20251030T203000
DTSTAMP:20260424T165439
CREATED:20251010T165448Z
LAST-MODIFIED:20251010T165448Z
UID:6408-1761850800-1761856200@www.jewishomaha.org
SUMMARY:Community Lecture with Yair Rosenberg
DESCRIPTION:Community Lecture sponsored by the Klutznick Custodial Fund of the Jewish Federation of Omaha \nThursday\, October 30 | 7:00 pm \nBeth El Synagogue – 14506 California St.\nDessert reception to follow \nRSVP HERE \nDuring this special event\, award-winning journalist and writer at The Atlantic\, Yair Rosenberg\, will lead a timely discussion exploring the United States’ political climate and its impact on the Jewish community. \nYair Rosenberg\, staff writer at The Atlantic and author of the “Deep Shtetl” newsletter\, writes on politics\, culture\, and religion. His work has appeared in the New York Times\, Washington Post\, and Wall Street Journal. A leading voice on antisemitism\, Rosenberg has testified before Congress. He is the creator of the video series Antisemitism\, Explained\, and recently released a new album of original Shabbat music called Az Yashir.
URL:https://www.jewishomaha.org/event/community-lecture-with-yair-rosenberg/
LOCATION:Beth El Synagogue\, 14506 California Street\, Omaha\, NE\, 68154
ATTACH;FMTTYPE=image/jpeg:https://www.jewishomaha.org/wp-content/uploads/2025/09/Yair-Rosenberg.jpg
END:VEVENT
END:VCALENDAR