BEGIN:VCALENDAR
VERSION:2.0
PRODID:-//Jewish Federation of Omaha - ECPv6.15.20//NONSGML v1.0//EN
CALSCALE:GREGORIAN
METHOD:PUBLISH
X-WR-CALNAME:Jewish Federation of Omaha
X-ORIGINAL-URL:https://www.jewishomaha.org
X-WR-CALDESC:Events for Jewish Federation of Omaha
REFRESH-INTERVAL;VALUE=DURATION:PT1H
X-Robots-Tag:noindex
X-PUBLISHED-TTL:PT1H
BEGIN:VTIMEZONE
TZID:UTC
BEGIN:STANDARD
TZOFFSETFROM:+0000
TZOFFSETTO:+0000
TZNAME:UTC
DTSTART:20240101T000000
END:STANDARD
END:VTIMEZONE
BEGIN:VEVENT
DTSTART;TZID=UTC:20250928T093000
DTEND;TZID=UTC:20250928T110000
DTSTAMP:20260424T175918
CREATED:20250909T162337Z
LAST-MODIFIED:20250909T162337Z
UID:6263-1759051800-1759057200@www.jewishomaha.org
SUMMARY:Partnership's 2nd Commemoration of October 7
DESCRIPTION:Online via Zoom\n\n\nJoin our communities from the U.S.\, Budapest\, and Western Galilee in solemn solidarity as we mark two years since the tragic events of October 7\, 2023.\n\n\nThis meaningful gathering will include:\n Yizkor & candle lighting\n Voices from the Western Galilee in a special speakers’ panel\n A moving performing arts presentation\n Closing together with HaTikva
URL:https://www.jewishomaha.org/event/partnerships-2nd-commemoration-of-october-7/
ATTACH;FMTTYPE=image/jpeg:https://www.jewishomaha.org/wp-content/uploads/2025/09/Event-images-Oct7.jpg
END:VEVENT
END:VCALENDAR