BEGIN:VCALENDAR
VERSION:2.0
PRODID:-//Jewish Federation of Omaha - ECPv6.15.20//NONSGML v1.0//EN
CALSCALE:GREGORIAN
METHOD:PUBLISH
X-ORIGINAL-URL:https://www.jewishomaha.org
X-WR-CALDESC:Events for Jewish Federation of Omaha
REFRESH-INTERVAL;VALUE=DURATION:PT1H
X-Robots-Tag:noindex
X-PUBLISHED-TTL:PT1H
BEGIN:VTIMEZONE
TZID:UTC
BEGIN:STANDARD
TZOFFSETFROM:+0000
TZOFFSETTO:+0000
TZNAME:UTC
DTSTART:20240101T000000
END:STANDARD
END:VTIMEZONE
BEGIN:VEVENT
DTSTART;TZID=UTC:20250810T110000
DTEND;TZID=UTC:20250810T140000
DTSTAMP:20260424T212703
CREATED:20250714T152115Z
LAST-MODIFIED:20250714T152120Z
UID:5960-1754823600-1754834400@www.jewishomaha.org
SUMMARY:Hair for Hope benefitting Wigs for Kids
DESCRIPTION:Join us for a fun and meaningful event supporting Wigs for Kids\, a nonprofit that provides high-quality\, human hair wigs to children experiencing hair loss due to medical conditions—at no cost to families. Each hair donor will receive a complimentary basic haircut (with minimal styling) after their ponytail is cut. Haircuts by Beverly Seldin’s Hair Design.\n\nHAIR DONATION REQUIREMENTS: -12 inches minimum\n-Must be clean\, healthy\, and uncolored (grey hair is okay)\n-Select a time slot when you register (walk-ins are welcome)\n\nDon’t want to donate any hair? There will be additional opportunities to make a difference: Purchase raffle tickets to win a gift basket supporting the Israel Cancer Association.\nHelp create fidget kits and encouragement cards for newly diagnosed pediatric cancer patients through the Angels Among Us organization\n\nRegister Now!
URL:https://www.jewishomaha.org/event/hair-for-hope-benefitting-wigs-for-kids/
LOCATION:Rose Blumkin Jewish Home\, 323 South 132nd Street\, Omaha\, 68154\, United States
ATTACH;FMTTYPE=image/jpeg:https://www.jewishomaha.org/wp-content/uploads/2025/07/Hair-for-Hope.jpg
END:VEVENT
END:VCALENDAR