BEGIN:VCALENDAR
VERSION:2.0
PRODID:-//Jewish Federation of Omaha - ECPv6.15.20//NONSGML v1.0//EN
CALSCALE:GREGORIAN
METHOD:PUBLISH
X-WR-CALNAME:Jewish Federation of Omaha
X-ORIGINAL-URL:https://www.jewishomaha.org
X-WR-CALDESC:Events for Jewish Federation of Omaha
REFRESH-INTERVAL;VALUE=DURATION:PT1H
X-Robots-Tag:noindex
X-PUBLISHED-TTL:PT1H
BEGIN:VTIMEZONE
TZID:UTC
BEGIN:STANDARD
TZOFFSETFROM:+0000
TZOFFSETTO:+0000
TZNAME:UTC
DTSTART:20240101T000000
END:STANDARD
END:VTIMEZONE
BEGIN:VEVENT
DTSTART;TZID=UTC:20250731T124500
DTEND;TZID=UTC:20250731T153000
DTSTAMP:20260424T180328
CREATED:20250707T171456Z
LAST-MODIFIED:20250707T171456Z
UID:5943-1753965900-1753975800@www.jewishomaha.org
SUMMARY:Tzedek Teen Foodbank project
DESCRIPTION:For the next Tzedek Teens project\, we are volunteering at Foodbank For The Heartland. Activities during our volunteer shift include packing food boxes\, sorting donated items\, and splitting bulk items into family sized servings. Please register! We will also be taking donations for Foodbank For The Heartland. Drop off your canned meats\, toilet paper\, dish soap\, paper towels\, laundry detergent\, and other canned & boxed food at the JFO’s main entrance from July 7-31!
URL:https://www.jewishomaha.org/event/tzedek-teen-foodbank-project/
LOCATION:Foodbank For The Heartland\, 10525 J Street\, Omaha\, NE\, 68127
ATTACH;FMTTYPE=image/png:https://www.jewishomaha.org/wp-content/uploads/2025/06/Tzedek-Teen_Heartland-4-Website-image.png
ORGANIZER;CN="Tzedek Teens":MAILTO:nfox@jewishomaha.org
END:VEVENT
END:VCALENDAR