BEGIN:VCALENDAR
VERSION:2.0
PRODID:-//Jewish Federation of Omaha - ECPv6.15.20//NONSGML v1.0//EN
CALSCALE:GREGORIAN
METHOD:PUBLISH
X-WR-CALNAME:Jewish Federation of Omaha
X-ORIGINAL-URL:https://www.jewishomaha.org
X-WR-CALDESC:Events for Jewish Federation of Omaha
REFRESH-INTERVAL;VALUE=DURATION:PT1H
X-Robots-Tag:noindex
X-PUBLISHED-TTL:PT1H
BEGIN:VTIMEZONE
TZID:UTC
BEGIN:STANDARD
TZOFFSETFROM:+0000
TZOFFSETTO:+0000
TZNAME:UTC
DTSTART:20240101T000000
END:STANDARD
END:VTIMEZONE
BEGIN:VEVENT
DTSTART;TZID=UTC:20250330T150000
DTEND;TZID=UTC:20250330T170000
DTSTAMP:20260425T104859
CREATED:20250224T181808Z
LAST-MODIFIED:20250224T182000Z
UID:5456-1743346800-1743354000@www.jewishomaha.org
SUMMARY:JFO NOSH
DESCRIPTION:The Jewish Federation of Omaha Women’s Philanthropy and Jewish Author Spring events are uniting this year for a lively\, large-scale celebration of food\, community\, and connection. Featured author Micah Siva will showcase delicious Passover-inspired recipes from her cookbook\, NOSH: Plant-Forward Recipes Celebrating Modern Jewish Cuisine. Learn more \nCost: $18\nEnjoy cocktails\, appetizers\, and tastes from the food demo. Kosher options will be served. \nRSVP NOW!
URL:https://www.jewishomaha.org/event/jfo-nosh/
LOCATION:Champions Run\, 13800 Eagle Run Drive\, United States
ATTACH;FMTTYPE=image/jpeg:https://www.jewishomaha.org/wp-content/uploads/2025/02/Nosh.jpg
END:VEVENT
END:VCALENDAR