BEGIN:VCALENDAR
VERSION:2.0
PRODID:-//Jewish Federation of Omaha - ECPv6.15.20//NONSGML v1.0//EN
CALSCALE:GREGORIAN
METHOD:PUBLISH
X-WR-CALNAME:Jewish Federation of Omaha
X-ORIGINAL-URL:https://www.jewishomaha.org
X-WR-CALDESC:Events for Jewish Federation of Omaha
REFRESH-INTERVAL;VALUE=DURATION:PT1H
X-Robots-Tag:noindex
X-PUBLISHED-TTL:PT1H
BEGIN:VTIMEZONE
TZID:UTC
BEGIN:STANDARD
TZOFFSETFROM:+0000
TZOFFSETTO:+0000
TZNAME:UTC
DTSTART:20240101T000000
END:STANDARD
END:VTIMEZONE
BEGIN:VEVENT
DTSTART;TZID=UTC:20250305T120000
DTEND;TZID=UTC:20250305T130000
DTSTAMP:20260425T104859
CREATED:20241113T161659Z
LAST-MODIFIED:20241113T161659Z
UID:5149-1741176000-1741179600@www.jewishomaha.org
SUMMARY:Beit Midrash
DESCRIPTION:Embracing our desire to be together and learn together\, this exciting Beit Midrash (house of study) gives all of Jewish Omaha the opportunity to engage in spirited and challenging cross-denominational study with local rabbis and cantors. During each Beit Midrash\, a different clergy member from our community synagogues will select and present a pertinent topic of their choice. Classes will be held in-person at the Staenberg Omaha JCC. \nDrop in for one session or become a regular attendee – everyone is welcome. \nLight Kosher refreshments served at each session. No cost to attend.
URL:https://www.jewishomaha.org/event/beit-midrash-4/
LOCATION:Staenberg Kooper Fellman Campus\, 333 S. 132nd St.\, Omaha\, NE\, 68154
ATTACH;FMTTYPE=image/jpeg:https://www.jewishomaha.org/wp-content/uploads/2024/11/Beit-Midrash.jpg
END:VEVENT
END:VCALENDAR