BEGIN:VCALENDAR
VERSION:2.0
PRODID:-//Jewish Federation of Omaha - ECPv6.15.20//NONSGML v1.0//EN
CALSCALE:GREGORIAN
METHOD:PUBLISH
X-WR-CALNAME:Jewish Federation of Omaha
X-ORIGINAL-URL:https://www.jewishomaha.org
X-WR-CALDESC:Events for Jewish Federation of Omaha
REFRESH-INTERVAL;VALUE=DURATION:PT1H
X-Robots-Tag:noindex
X-PUBLISHED-TTL:PT1H
BEGIN:VTIMEZONE
TZID:UTC
BEGIN:STANDARD
TZOFFSETFROM:+0000
TZOFFSETTO:+0000
TZNAME:UTC
DTSTART:20240101T000000
END:STANDARD
END:VTIMEZONE
BEGIN:VEVENT
DTSTART;TZID=UTC:20250302T130000
DTEND;TZID=UTC:20250302T150000
DTSTAMP:20260425T104900
CREATED:20250224T181417Z
LAST-MODIFIED:20250224T182036Z
UID:5454-1740920400-1740927600@www.jewishomaha.org
SUMMARY:Ritchie Boys: Aaron Parsow talks about his grandfather Warner B. Frohman
DESCRIPTION:The Institute for Holocaust Education is honored to partner with the Nebraska Jewish Historical Society to present the final event highlighting the Ritchie Boys. The community is invited to hear Aaron Parsow\, son of Margo and Jay Parsow\, z”l\, speak about his grandfather\, Warner B. Frohman.
URL:https://www.jewishomaha.org/event/ritchie-boys-aaron-parsow-talks-about-his-grandfather-warner-b-frohman/
LOCATION:Temple Israel Synagogue\, 13111 Sterling Ridge Drive\, Omaha\, NE\, 68144
ATTACH;FMTTYPE=image/jpeg:https://www.jewishomaha.org/wp-content/uploads/2025/02/Ritchie-Boys-Aaron-Parsow.jpg
END:VEVENT
END:VCALENDAR