BEGIN:VCALENDAR
VERSION:2.0
PRODID:-//Jewish Federation of Omaha - ECPv6.15.20//NONSGML v1.0//EN
CALSCALE:GREGORIAN
METHOD:PUBLISH
X-ORIGINAL-URL:https://www.jewishomaha.org
X-WR-CALDESC:Events for Jewish Federation of Omaha
REFRESH-INTERVAL;VALUE=DURATION:PT1H
X-Robots-Tag:noindex
X-PUBLISHED-TTL:PT1H
BEGIN:VTIMEZONE
TZID:UTC
BEGIN:STANDARD
TZOFFSETFROM:+0000
TZOFFSETTO:+0000
TZNAME:UTC
DTSTART:20240101T000000
END:STANDARD
END:VTIMEZONE
BEGIN:VEVENT
DTSTART;TZID=UTC:20250209T100000
DTEND;TZID=UTC:20250209T113000
DTSTAMP:20260424T223822
CREATED:20250127T154841Z
LAST-MODIFIED:20250127T154841Z
UID:5387-1739095200-1739100600@www.jewishomaha.org
SUMMARY:PJ Library - Super Science Sunday
DESCRIPTION:Ready\, set\, blow some bubbles! Join PJ Library Omaha and Friedel Jewish Academy as they host the Omaha Children’s Museum and The Amazing Bubble Show at the J. (The exact location provided to those who register.)\nFREE and open to families with children ages 5 and under in the Jewish community\, families attending the ELC and Friedel Jewish Academy.\nGrandparents welcome! \nQuestions? Contact Sara Kohen\, Friedel Jewish Academy\, skohen@fjaomaha.com\, or Heidi Heilbrunn Needleman\, Jewish Federation of Omaha\, hheilbrunn@jewishomaha.org
URL:https://www.jewishomaha.org/event/pj-library-super-science-sunday/
LOCATION:Jewish Community Center\, 333 S. 132nd Street\, Omaha\, NE\, 68154\, United States
ATTACH;FMTTYPE=image/jpeg:https://www.jewishomaha.org/wp-content/uploads/2025/01/Event-images-Super-science.jpg
ORGANIZER;CN="PJ Library":MAILTO:hheilbrunn@jewishomaha.org
END:VEVENT
END:VCALENDAR