BEGIN:VCALENDAR
VERSION:2.0
PRODID:-//Jewish Federation of Omaha - ECPv6.15.20//NONSGML v1.0//EN
CALSCALE:GREGORIAN
METHOD:PUBLISH
X-WR-CALNAME:Jewish Federation of Omaha
X-ORIGINAL-URL:https://www.jewishomaha.org
X-WR-CALDESC:Events for Jewish Federation of Omaha
REFRESH-INTERVAL;VALUE=DURATION:PT1H
X-Robots-Tag:noindex
X-PUBLISHED-TTL:PT1H
BEGIN:VTIMEZONE
TZID:UTC
BEGIN:STANDARD
TZOFFSETFROM:+0000
TZOFFSETTO:+0000
TZNAME:UTC
DTSTART:20240101T000000
END:STANDARD
END:VTIMEZONE
BEGIN:VEVENT
DTSTART;TZID=UTC:20250126T150000
DTEND;TZID=UTC:20250126T163000
DTSTAMP:20260425T140435
CREATED:20250103T171003Z
LAST-MODIFIED:20250103T171003Z
UID:5322-1737903600-1737909000@www.jewishomaha.org
SUMMARY:Taste of Jewish Omaha
DESCRIPTION:Shabbat Favorites – Baking for Tots with Ayelet Geiger\nExperience the warmth of Jewish community and cuisine with PJ Library’s Taste of Jewish Omaha cooking series\, a heartwarming parent-child journey. Share your treasured family recipes and help craft a PJ Library Taste of Omaha family-friendly cookbook that celebrates our shared heritage and traditions. \nPJ Library’s Taste of Jewish Omaha continues with Shabbat Favorites with Ayelet Geiger at 3 p.m. Ayelet\, who is known for her delectable kosher meals and catering\, is welcoming children of all ages into her home. She will share a few of her family’s favorite Shabbat staples. PJ Library families will practice rolling matzo balls and create an easy puff-pastry dessert.
URL:https://www.jewishomaha.org/event/taste-of-jewish-omaha/
ATTACH;FMTTYPE=image/jpeg:https://www.jewishomaha.org/wp-content/uploads/2024/11/Event-images2.jpg
ORGANIZER;CN="PJ Library":MAILTO:hheilbrunn@jewishomaha.org
END:VEVENT
END:VCALENDAR