BEGIN:VCALENDAR
VERSION:2.0
PRODID:-//Jewish Federation of Omaha - ECPv6.15.20//NONSGML v1.0//EN
CALSCALE:GREGORIAN
METHOD:PUBLISH
X-WR-CALNAME:Jewish Federation of Omaha
X-ORIGINAL-URL:https://www.jewishomaha.org
X-WR-CALDESC:Events for Jewish Federation of Omaha
REFRESH-INTERVAL;VALUE=DURATION:PT1H
X-Robots-Tag:noindex
X-PUBLISHED-TTL:PT1H
BEGIN:VTIMEZONE
TZID:UTC
BEGIN:STANDARD
TZOFFSETFROM:+0000
TZOFFSETTO:+0000
TZNAME:UTC
DTSTART:20230101T000000
END:STANDARD
END:VTIMEZONE
BEGIN:VEVENT
DTSTART;TZID=UTC:20241215T140000
DTEND;TZID=UTC:20241215T140000
DTSTAMP:20260425T153922
CREATED:20241022T144233Z
LAST-MODIFIED:20241112T234130Z
UID:5096-1734271200-1734271200@www.jewishomaha.org
SUMMARY:Local Author Event featuring Bob Yaffe
DESCRIPTION:Join us at the Author Event for Omaha’s own Bob Yaffe’s book\, Relinquished.\nIt was 1950 when Robert J. (Bob) Yaffe was adopted by Dorothy and Sol Yaffe. Decades later\, in 1985\, Bob embarked on a search for his birth parents. In his book\, Relinquished\, he details that journey\, and its results.\nRead more\n\nPlease let us know if you plan to attend by registering.
URL:https://www.jewishomaha.org/event/local-author-event-featuring-bob-yaffe/
LOCATION:Jewish Federation of Omaha\, 333 S 132nd Street\, Omaha\, NE\, 68154\, United States
ATTACH;FMTTYPE=image/jpeg:https://www.jewishomaha.org/wp-content/uploads/2024/10/Author-Event-Bob-Yaffe-1920-x-1080-px-scaled.jpg
END:VEVENT
END:VCALENDAR