BEGIN:VCALENDAR
VERSION:2.0
PRODID:-//Jewish Federation of Omaha - ECPv6.15.20//NONSGML v1.0//EN
CALSCALE:GREGORIAN
METHOD:PUBLISH
X-ORIGINAL-URL:https://www.jewishomaha.org
X-WR-CALDESC:Events for Jewish Federation of Omaha
REFRESH-INTERVAL;VALUE=DURATION:PT1H
X-Robots-Tag:noindex
X-PUBLISHED-TTL:PT1H
BEGIN:VTIMEZONE
TZID:UTC
BEGIN:STANDARD
TZOFFSETFROM:+0000
TZOFFSETTO:+0000
TZNAME:UTC
DTSTART:20230101T000000
END:STANDARD
END:VTIMEZONE
BEGIN:VEVENT
DTSTART;TZID=UTC:20241103T110000
DTEND;TZID=UTC:20241124T120000
DTSTAMP:20260425T172622
CREATED:20241101T165025Z
LAST-MODIFIED:20241101T165232Z
UID:5110-1730631600-1732449600@www.jewishomaha.org
SUMMARY:JFS Book Club Discussion
DESCRIPTION:Jewish Family Service hosts Book Club Discussion \nSundays | 11:00 am-12:00 pm\nNovember 3\, 10\, 17 & 24 \nJewish Federation of Omaha\, Conference Room A – 333 S. 132nd St. \nThe community is invited to join Rabbi Mordechai Geiger of Beth Israel Synagogue and Jewish Family staff Teresa Drelicharz and Annie Rifkin for a 4-part book club discussion on Thriving With Anxiety by David H. Rosmarin. \nRegister Here
URL:https://www.jewishomaha.org/event/5110/
LOCATION:Jewish Federation of Omaha\, 333 S 132nd Street\, Omaha\, NE\, 68154\, United States
ATTACH;FMTTYPE=image/jpeg:https://www.jewishomaha.org/wp-content/uploads/2024/11/JFS-Book-Club-2024.jpg
ORGANIZER;CN="Jewish Family Service":MAILTO:htopil@jfsomaha.com
END:VEVENT
BEGIN:VEVENT
DTSTART;TZID=UTC:20241111T173000
DTEND;TZID=UTC:20241111T193000
DTSTAMP:20260425T172622
CREATED:20241014T152336Z
LAST-MODIFIED:20241014T152738Z
UID:5084-1731346200-1731353400@www.jewishomaha.org
SUMMARY:Period Product Packing Party
DESCRIPTION:Tzedek Teens Volunteer Project with Access Period\nMonday\, November 11th in the Goldstein Community Engagement Venue at the JCC \nAll Jewish girls ages 12-18 are invited to combat period poverty with Access Period.\nWe will be creating period supply kits together for people in the Omaha and the surrounding community.\nYou can also earn volunteer hours for school requirements.\nDinner will be provided at 5:30 p.m.\nTzedek Project fro m 6:00-7:30 p.m.
URL:https://www.jewishomaha.org/event/period-product-packing-party/
LOCATION:Shirley & Leonard Goldstein Community Engagement Venue\, 333 S. 132nd St.\, Omaha\, NE\, 68154
ATTACH;FMTTYPE=image/jpeg:https://www.jewishomaha.org/wp-content/uploads/2024/10/Event-images-1-scaled.jpg
ORGANIZER;CN="Tzedek Teens":MAILTO:nfox@jewishomaha.org
END:VEVENT
END:VCALENDAR