BEGIN:VCALENDAR
VERSION:2.0
PRODID:-//Jewish Federation of Omaha - ECPv6.15.20//NONSGML v1.0//EN
CALSCALE:GREGORIAN
METHOD:PUBLISH
X-ORIGINAL-URL:https://www.jewishomaha.org
X-WR-CALDESC:Events for Jewish Federation of Omaha
REFRESH-INTERVAL;VALUE=DURATION:PT1H
X-Robots-Tag:noindex
X-PUBLISHED-TTL:PT1H
BEGIN:VTIMEZONE
TZID:UTC
BEGIN:STANDARD
TZOFFSETFROM:+0000
TZOFFSETTO:+0000
TZNAME:UTC
DTSTART:20230101T000000
END:STANDARD
END:VTIMEZONE
BEGIN:VEVENT
DTSTART;TZID=UTC:20241006T190000
DTEND;TZID=UTC:20241006T210000
DTSTAMP:20260425T190316
CREATED:20241001T164654Z
LAST-MODIFIED:20241001T165223Z
UID:5045-1728241200-1728248400@www.jewishomaha.org
SUMMARY:Documentary - A Life Well Lived: An Account of David Kaufmann
DESCRIPTION:UNO’s College of Communication\, Fine Arts and Media in conjunction with the Institute for Holocaust Education\, B’nai B’rith Monsky Lodge\, and the UNO Schwalb Center for Israel and Jewish Studies\, present a screening of “A Life Well Lived: An Account of David Kaufmann.” This documentary tells the remarkable true story of David Kaufmann\, a central Nebraska businessman\, community leader\, and philanthropist\, whose actions impacted countless lives. \nA Life Well Lived: An Account of David Kaufmann\nDocumentary Film – Free Admission\nNo Registration Required.\nSunday\, October 6 | 7:00 pm\nAlan J. Levine Performing Arts Theater- 333 S. 132nd Street\, Omaha\, NE 68154 \nThe movie tells the remarkable true story of David Kaufmann\, a central Nebraska businessman\, community leader\, and philanthropist\, whose actions impacted countless lives.\nDavid Kaufmann emigrated from Germany and settled in Grand Island in 1903. His contributions to his adopted hometown of Grand Island and other communities he conducted business in\, including Kearney and North Platte\, were extensive. Kaufmann believed one person could make a difference in the lives of others and sought to inspire others to do good where they could. Kaufmann’s most significant\, and least known\, act of service was his quiet sponsorship of Jewish families fleeing the Nazi regime. Included in those saved were Marcel Kahn and his family. Despite his selfless actions that saved many lives\, Kaufmann never sought recognition for his humanitarian efforts. \nThe documentary features interviews with descendants of individuals Kaufmann helped leave Germany\, historians\, community leaders\, and individuals who remembered him. Reenacted scenes were filmed in Grand Island\, using local talent and support from the community. The project has also received generous support from various organizations\, including History Nebraska\, Humanities Nebraska\, Nebraska State Historical Society Foundation\, Nebraska Jewish Historical Society\, Stuhr Museum\, Buffalo County Historical Society\, and the University of Nebraska-Kearney.
URL:https://www.jewishomaha.org/event/5045/
LOCATION:Alan J. Levine Performing Arts Theater\, 333 S. 132nd St.\, Omaha\, NE\, 68154
ATTACH;FMTTYPE=image/jpeg:https://www.jewishomaha.org/wp-content/uploads/2024/10/Event-images2.jpg
END:VEVENT
END:VCALENDAR