BEGIN:VCALENDAR
VERSION:2.0
PRODID:-//Jewish Federation of Omaha - ECPv6.15.20//NONSGML v1.0//EN
CALSCALE:GREGORIAN
METHOD:PUBLISH
X-ORIGINAL-URL:https://www.jewishomaha.org
X-WR-CALDESC:Events for Jewish Federation of Omaha
REFRESH-INTERVAL;VALUE=DURATION:PT1H
X-Robots-Tag:noindex
X-PUBLISHED-TTL:PT1H
BEGIN:VTIMEZONE
TZID:UTC
BEGIN:STANDARD
TZOFFSETFROM:+0000
TZOFFSETTO:+0000
TZNAME:UTC
DTSTART:20230101T000000
END:STANDARD
END:VTIMEZONE
BEGIN:VEVENT
DTSTART;TZID=UTC:20240929T140000
DTEND;TZID=UTC:20240929T170000
DTSTAMP:20260425T202903
CREATED:20240917T202632Z
LAST-MODIFIED:20240917T203252Z
UID:4970-1727618400-1727629200@www.jewishomaha.org
SUMMARY:PJ Library: On the Farm
DESCRIPTION:Taste of Jewish Omaha Series Kickoff \nPJ Library enrolled families will gather at the farm to socialize\, pick fresh produce\, go on a scavenger hunt and learn more about the upcoming series Taste Of Jewish Omaha\, sponsored by the PJ Library Engagement Grant for Implementing Partners. Please register\, so we know to look for you!
URL:https://www.jewishomaha.org/event/pj-on-the-farm/
LOCATION:Nelson Produce Farm\, 10505 N 234th St\, Valley\, NE\, 68064
ATTACH;FMTTYPE=image/jpeg:https://www.jewishomaha.org/wp-content/uploads/2024/09/Event-images.jpg
ORGANIZER;CN="PJ Library":MAILTO:hheilbrunn@jewishomaha.org
END:VEVENT
END:VCALENDAR