BEGIN:VCALENDAR
VERSION:2.0
PRODID:-//Jewish Federation of Omaha - ECPv6.15.20//NONSGML v1.0//EN
CALSCALE:GREGORIAN
METHOD:PUBLISH
X-ORIGINAL-URL:https://www.jewishomaha.org
X-WR-CALDESC:Events for Jewish Federation of Omaha
REFRESH-INTERVAL;VALUE=DURATION:PT1H
X-Robots-Tag:noindex
X-PUBLISHED-TTL:PT1H
BEGIN:VTIMEZONE
TZID:UTC
BEGIN:STANDARD
TZOFFSETFROM:+0000
TZOFFSETTO:+0000
TZNAME:UTC
DTSTART:20230101T000000
END:STANDARD
END:VTIMEZONE
BEGIN:VEVENT
DTSTART;TZID=UTC:20240922T180000
DTEND;TZID=UTC:20240922T200000
DTSTAMP:20260425T202902
CREATED:20240821T174948Z
LAST-MODIFIED:20240822T163454Z
UID:4875-1727028000-1727035200@www.jewishomaha.org
SUMMARY:Get In The Game!
DESCRIPTION:2025 Annual Campaign Community Kickoff Event\nGet In The Game! \nFeaturing: Linda Cohn – ESPN Sportscenter & Ken Rosenthal – The Athletic\, MLB on Fox \n\n5:00 PM: Meet & Greet with keynote speakers\, yard games\, cocktails\, and music by The Bagel Boys Band\n6:00 PM: Buffet dinner provided by Star Catering\n6:30 PM: Program and Awards\n7:30 PM: Desserts from Kona Ice and Star Catering\n\nReservations due by September 12th \nCasual Attire (Sneakers encouraged!) \nRSVP NOW
URL:https://www.jewishomaha.org/event/get-in-the-game/
LOCATION:Alan J. Levine Athletic Facility\, 333 S. 132nd Street\, Omaha\, NE\, 68154
ATTACH;FMTTYPE=image/jpeg:https://www.jewishomaha.org/wp-content/uploads/2024/07/Get-in-the-Game.jpg
END:VEVENT
END:VCALENDAR