BEGIN:VCALENDAR
VERSION:2.0
PRODID:-//Jewish Federation of Omaha - ECPv6.15.20//NONSGML v1.0//EN
CALSCALE:GREGORIAN
METHOD:PUBLISH
X-WR-CALNAME:Jewish Federation of Omaha
X-ORIGINAL-URL:https://www.jewishomaha.org
X-WR-CALDESC:Events for Jewish Federation of Omaha
REFRESH-INTERVAL;VALUE=DURATION:PT1H
X-Robots-Tag:noindex
X-PUBLISHED-TTL:PT1H
BEGIN:VTIMEZONE
TZID:UTC
BEGIN:STANDARD
TZOFFSETFROM:+0000
TZOFFSETTO:+0000
TZNAME:UTC
DTSTART:20230101T000000
END:STANDARD
END:VTIMEZONE
BEGIN:VEVENT
DTSTART;TZID=UTC:20240912T190000
DTEND;TZID=UTC:20240912T203000
DTSTAMP:20260425T202857
CREATED:20240904T162018Z
LAST-MODIFIED:20240904T162018Z
UID:4931-1726167600-1726173000@www.jewishomaha.org
SUMMARY:Life & Legacy 10th Anniversary Celebration
DESCRIPTION:Join us for our VIP Meet and Greet with Ari at 6:15 by completing a Life & Legacy Letter of Intent. \nClick here to view the form: https://conta.cc/4cHRzTb \nDessert Reception to follow \nQuestions?  Contact Stacie Metz at 402.334.6485 or smetz@jewishomaha.org.
URL:https://www.jewishomaha.org/event/life-legacy-10th-anniversary-celebration/
LOCATION:Alan J. Levine Performing Arts Theater\, 333 S. 132nd St.\, Omaha\, NE\, 68154
ATTACH;FMTTYPE=image/jpeg:https://www.jewishomaha.org/wp-content/uploads/2024/08/Event-images.jpg
ORGANIZER;CN="Jewish Federation of Omaha Foundation":MAILTO:ashivvers@jewishomaha.org
END:VEVENT
END:VCALENDAR