BEGIN:VCALENDAR
VERSION:2.0
PRODID:-//Jewish Federation of Omaha - ECPv6.15.20//NONSGML v1.0//EN
CALSCALE:GREGORIAN
METHOD:PUBLISH
X-WR-CALNAME:Jewish Federation of Omaha
X-ORIGINAL-URL:https://www.jewishomaha.org
X-WR-CALDESC:Events for Jewish Federation of Omaha
REFRESH-INTERVAL;VALUE=DURATION:PT1H
X-Robots-Tag:noindex
X-PUBLISHED-TTL:PT1H
BEGIN:VTIMEZONE
TZID:UTC
BEGIN:STANDARD
TZOFFSETFROM:+0000
TZOFFSETTO:+0000
TZNAME:UTC
DTSTART:20230101T000000
END:STANDARD
END:VTIMEZONE
BEGIN:VEVENT
DTSTART;TZID=UTC:20240909T083000
DTEND;TZID=UTC:20240909T093000
DTSTAMP:20260425T202857
CREATED:20240716T144358Z
LAST-MODIFIED:20240716T214748Z
UID:4760-1725870600-1725874200@www.jewishomaha.org
SUMMARY:Thriving With Anxiety-Parent Event
DESCRIPTION:Open to all community parents of children ages 0-18 *Feel free to leave as needed for work and other responsibilities \n8:00-8:30 AM…..Breakfast\n8:30-9:00 AM…..Dr. Rosmarin speaks\n9:00-9:30 AM…..Q&A \nDr. Rosmarin will be spending the rest of his time in Omaha with middle grade students at Friedel Jewish Academy during the school day. \nDavid H. Rosmarin PhD is an associate professor at Harvard Medical School\, a program director at McLean Hospital\, and founder of Center for Anxiety\, which services over 1\,000 patients/year in multiple states. He is an international expert on spirituality and mental health\, whose work has been featured in Scientific American\, the Boston Globe\, the Wall Street Journal\, and the New York Times. \nThrough his work as a clinical psychologist\, scientist\, educator and author\, Dr. Rosmarin has helped thousands of patients and organizations to live happier and more productive lives. His most recent book is Thriving with Anxiety: 9 Tools to Make Your Anxiety Work for You. He can be reached via his website www.dhrosmarin.com
URL:https://www.jewishomaha.org/event/thriving-with-anxiety-parent-event/
LOCATION:Shirley & Leonard Goldstein Community Engagement Venue\, 333 S. 132nd St.\, Omaha\, NE\, 68154
ATTACH;FMTTYPE=image/jpeg:https://www.jewishomaha.org/wp-content/uploads/2024/07/Thriving-Event-image3.jpg
END:VEVENT
END:VCALENDAR