BEGIN:VCALENDAR
VERSION:2.0
PRODID:-//Jewish Federation of Omaha - ECPv6.15.20//NONSGML v1.0//EN
CALSCALE:GREGORIAN
METHOD:PUBLISH
X-ORIGINAL-URL:https://www.jewishomaha.org
X-WR-CALDESC:Events for Jewish Federation of Omaha
REFRESH-INTERVAL;VALUE=DURATION:PT1H
X-Robots-Tag:noindex
X-PUBLISHED-TTL:PT1H
BEGIN:VTIMEZONE
TZID:UTC
BEGIN:STANDARD
TZOFFSETFROM:+0000
TZOFFSETTO:+0000
TZNAME:UTC
DTSTART:20230101T000000
END:STANDARD
END:VTIMEZONE
BEGIN:VEVENT
DTSTART;TZID=UTC:20240625T180000
DTEND;TZID=UTC:20240625T200000
DTSTAMP:20260426T010314
CREATED:20240612T171025Z
LAST-MODIFIED:20240612T171025Z
UID:4564-1719338400-1719345600@www.jewishomaha.org
SUMMARY:NextGen Kosher Wine Tasting
DESCRIPTION:Wine Tasting\nTuesday\, June 25th*\n6:00 PM\nSpirit World\, 6680 Center Street\n$18/person
URL:https://www.jewishomaha.org/event/nextgen-kosher-wine-tasting/
LOCATION:Spirit World\, 6680 Center St.\, Omaha\, NE\, 68106
ATTACH;FMTTYPE=image/jpeg:https://www.jewishomaha.org/wp-content/uploads/2024/06/Wine-Tasting-June-25.jpg
END:VEVENT
END:VCALENDAR