BEGIN:VCALENDAR
VERSION:2.0
PRODID:-//Jewish Federation of Omaha - ECPv6.15.20//NONSGML v1.0//EN
CALSCALE:GREGORIAN
METHOD:PUBLISH
X-ORIGINAL-URL:https://www.jewishomaha.org
X-WR-CALDESC:Events for Jewish Federation of Omaha
REFRESH-INTERVAL;VALUE=DURATION:PT1H
X-Robots-Tag:noindex
X-PUBLISHED-TTL:PT1H
BEGIN:VTIMEZONE
TZID:UTC
BEGIN:STANDARD
TZOFFSETFROM:+0000
TZOFFSETTO:+0000
TZNAME:UTC
DTSTART:20230101T000000
END:STANDARD
END:VTIMEZONE
BEGIN:VEVENT
DTSTART;TZID=UTC:20240609T090000
DTEND;TZID=UTC:20240609T120000
DTSTAMP:20260426T010425
CREATED:20240508T163145Z
LAST-MODIFIED:20240508T163145Z
UID:4423-1717923600-1717934400@www.jewishomaha.org
SUMMARY:Family Day at the Zoo
DESCRIPTION:Join other families in Jewish Omaha for a fun day at the Zoo! If you don’t have a zoo membership: Meet at 9 A.M. at the main entrance\, and PJ Library will pay for your admission! If you have your own membership\, you can join us at any time. \nschedule of meet-ups:\n9:15 am Meet at the lion sculpture \n10:45 am Friedel will provide kosher snacks at Glacier Bay Landing \nMeet someone new or bring a group of friends. \nThis program is for families in Omaha’s Jewish community with children age 12 or younger and families with students attending Friedel Jewish Academy and the Pennie Z. Davis ELC.
URL:https://www.jewishomaha.org/event/family-day-at-the-zoo-2/
LOCATION:Henry Doorly Zoo & Aquarium\, 3701 S 10th St.\, Omaha\, NE\, 68107
ATTACH;FMTTYPE=image/jpeg:https://www.jewishomaha.org/wp-content/uploads/2024/05/2024-PJ-Library-Zoo-Day-IG.jpg
ORGANIZER;CN="PJ Library":MAILTO:hheilbrunn@jewishomaha.org
END:VEVENT
BEGIN:VEVENT
DTSTART;TZID=UTC:20240609T140000
DTEND;TZID=UTC:20240609T160000
DTSTAMP:20260426T010425
CREATED:20240515T194958Z
LAST-MODIFIED:20240515T194958Z
UID:4489-1717941600-1717948800@www.jewishomaha.org
SUMMARY:Tapestry: A Celebration of Jewish Learning
DESCRIPTION:The Jewish Federation of Omaha is excited to share the beginning of a new annual initiative we are calling Tapestry: A Celebration of Jewish Learning.  This year\, Tapestry will take place Friday\, May 31st – Sunday\, June 9th and will feature guest scholar\, Rabbi Joseph Telushkin. \nTapestry is an investment into strengthening our Omaha community’s Jewish literacy. Each year\, The Jewish Federation of Omaha will bring a Jewish scholar to Omaha to collaborate with our congregations\, JFO agencies\, and partner organizations. Each host organization/agency will customize their own program during this ten-day period of learning. Host organizations/agencies will determine topic\, mode of preferred learning experience\, and setting that best serves the age group and interests of their participants. This year Rabbi Telushkin will engage in a variety of sessions\, in a variety of formats\, determined by our host organizations/agencies. \nTAPESTRY IS GENEROUSLY SPONSORED BY: \n\nJewish Federation of Omaha\nJewish Federation of Omaha Foundation: Herbert Goldstein Scholarship Fund\,\nAnn Goldstein Education Programming Endowment Fund\, and Klutznick Fund\nAccommodations provided by Chabad of Nebraska
URL:https://www.jewishomaha.org/event/tapestry-a-celebration-of-jewish-learning/
LOCATION:Shirley & Leonard Goldstein Community Engagement Venue\, 333 S. 132nd St.\, Omaha\, NE\, 68154
ATTACH;FMTTYPE=image/jpeg:https://www.jewishomaha.org/wp-content/uploads/2024/04/Taspestry0.jpg
END:VEVENT
END:VCALENDAR