BEGIN:VCALENDAR
VERSION:2.0
PRODID:-//Jewish Federation of Omaha - ECPv6.15.20//NONSGML v1.0//EN
CALSCALE:GREGORIAN
METHOD:PUBLISH
X-WR-CALNAME:Jewish Federation of Omaha
X-ORIGINAL-URL:https://www.jewishomaha.org
X-WR-CALDESC:Events for Jewish Federation of Omaha
REFRESH-INTERVAL;VALUE=DURATION:PT1H
X-Robots-Tag:noindex
X-PUBLISHED-TTL:PT1H
BEGIN:VTIMEZONE
TZID:UTC
BEGIN:STANDARD
TZOFFSETFROM:+0000
TZOFFSETTO:+0000
TZNAME:UTC
DTSTART:20230101T000000
END:STANDARD
END:VTIMEZONE
BEGIN:VEVENT
DTSTART;TZID=UTC:20240603T183000
DTEND;TZID=UTC:20240603T203000
DTSTAMP:20260426T010303
CREATED:20240515T192320Z
LAST-MODIFIED:20240515T192320Z
UID:4480-1717439400-1717446600@www.jewishomaha.org
SUMMARY:2024 Awards Night & Annual Meeting
DESCRIPTION:Please join us to celebrate our award recipients!Spotlight: Celebrating the 100th anniversary of BBYO!
URL:https://www.jewishomaha.org/event/2024-awards-night-annual-meeting/
LOCATION:Alan J. Levine Performing Arts Theater\, 333 S. 132nd St.\, Omaha\, NE\, 68154
ATTACH;FMTTYPE=image/jpeg:https://www.jewishomaha.org/wp-content/uploads/2024/05/Annual-Meeting-2024.jpg
END:VEVENT
END:VCALENDAR