BEGIN:VCALENDAR
VERSION:2.0
PRODID:-//Jewish Federation of Omaha - ECPv6.15.20//NONSGML v1.0//EN
CALSCALE:GREGORIAN
METHOD:PUBLISH
X-WR-CALNAME:Jewish Federation of Omaha
X-ORIGINAL-URL:https://www.jewishomaha.org
X-WR-CALDESC:Events for Jewish Federation of Omaha
REFRESH-INTERVAL;VALUE=DURATION:PT1H
X-Robots-Tag:noindex
X-PUBLISHED-TTL:PT1H
BEGIN:VTIMEZONE
TZID:UTC
BEGIN:STANDARD
TZOFFSETFROM:+0000
TZOFFSETTO:+0000
TZNAME:UTC
DTSTART:20230101T000000
END:STANDARD
END:VTIMEZONE
BEGIN:VEVENT
DTSTART;TZID=UTC:20240529T153000
DTEND;TZID=UTC:20240529T163000
DTSTAMP:20260426T010304
CREATED:20240523T192412Z
LAST-MODIFIED:20240523T215324Z
UID:4513-1716996600-1717000200@www.jewishomaha.org
SUMMARY:Mayor Stothert to recognize Jewish American Heritage Month
DESCRIPTION:Each May\, hundreds of organizations and Americans of all backgrounds join together to discover\, explore\, and celebrate the vibrant and varied American Jewish experience from the dawn of our nation to the present day. \nJoin Omaha Mayor Jean Stothert\, JCRC and the Nebraska Jewish Historical Society at the Milton Mendel and Marsha Kleinberg Jewish Heritage Center at the Staenberg Kooper Fellman Campus on Wednesday\, May 29th\, at 3:30 PM\, as Mayor Stothert delivers an official proclamation recognizing the contributions Jews have made to Omaha since before Nebraska became a state! \nLearn more… \nQuestions? Contact Pam Monsky\, 402.334.6572 or pmonsky@jewishomaha.org.
URL:https://www.jewishomaha.org/event/mayor-stothert-to-recognize-jewish-american-heritage-month/
LOCATION:Milton Mendel and Marsha Kleinberg Jewish Heritage Center\, 333 S. 132nd St.\, Omaha\, NE\, 68154
ATTACH;FMTTYPE=image/jpeg:https://www.jewishomaha.org/wp-content/uploads/2024/05/Jewish-American-Heritage-Month.jpg
END:VEVENT
END:VCALENDAR