BEGIN:VCALENDAR
VERSION:2.0
PRODID:-//Jewish Federation of Omaha - ECPv6.15.20//NONSGML v1.0//EN
CALSCALE:GREGORIAN
METHOD:PUBLISH
X-WR-CALNAME:Jewish Federation of Omaha
X-ORIGINAL-URL:https://www.jewishomaha.org
X-WR-CALDESC:Events for Jewish Federation of Omaha
REFRESH-INTERVAL;VALUE=DURATION:PT1H
X-Robots-Tag:noindex
X-PUBLISHED-TTL:PT1H
BEGIN:VTIMEZONE
TZID:UTC
BEGIN:STANDARD
TZOFFSETFROM:+0000
TZOFFSETTO:+0000
TZNAME:UTC
DTSTART:20230101T000000
END:STANDARD
END:VTIMEZONE
BEGIN:VEVENT
DTSTART;TZID=UTC:20240508T190000
DTEND;TZID=UTC:20240508T203000
DTSTAMP:20260426T023649
CREATED:20240418T214118Z
LAST-MODIFIED:20240418T214118Z
UID:4398-1715194800-1715200200@www.jewishomaha.org
SUMMARY:Omaha Community Holocaust Commemoration
DESCRIPTION:Includes a candle lighting ceremony honoring Holocaust victims and survivors \n\n\n\nFEATURED PROGRAM: Avi Wisnia\, grandson of Holocaust survivor Cantor David Wisnia the subject of the documentary movie\, How Saba Kept Singing
URL:https://www.jewishomaha.org/event/omaha-community-holocaust-commemoration/
LOCATION:Temple Israel Synagogue\, 13111 Sterling Ridge Drive\, Omaha\, NE\, 68144
ATTACH;FMTTYPE=image/jpeg:https://www.jewishomaha.org/wp-content/uploads/2024/04/Event-images.jpg
END:VEVENT
END:VCALENDAR