BEGIN:VCALENDAR
VERSION:2.0
PRODID:-//Jewish Federation of Omaha - ECPv6.15.20//NONSGML v1.0//EN
CALSCALE:GREGORIAN
METHOD:PUBLISH
X-WR-CALNAME:Jewish Federation of Omaha
X-ORIGINAL-URL:https://www.jewishomaha.org
X-WR-CALDESC:Events for Jewish Federation of Omaha
REFRESH-INTERVAL;VALUE=DURATION:PT1H
X-Robots-Tag:noindex
X-PUBLISHED-TTL:PT1H
BEGIN:VTIMEZONE
TZID:UTC
BEGIN:STANDARD
TZOFFSETFROM:+0000
TZOFFSETTO:+0000
TZNAME:UTC
DTSTART:20230101T000000
END:STANDARD
END:VTIMEZONE
BEGIN:VEVENT
DTSTART;TZID=UTC:20240401T183000
DTEND;TZID=UTC:20240401T183000
DTSTAMP:20260426T040450
CREATED:20240227T200906Z
LAST-MODIFIED:20240227T201410Z
UID:4244-1711996200-1711996200@www.jewishomaha.org
SUMMARY:Jewish Author Event
DESCRIPTION:Jewish Author Event featuring ARTHUR SMITH \nMonday\, April 1\, 2024\n6:30 pm | Goldstein Community Engagement Venue\nStaenberg Omaha JCC • 333 S.132nd Street \nRegister online HERE \nKosher appetizers\, beverages and dessert will be served. Reach will be available for purchase.\nYour $18 registration fee includes the author’s talk\, food and drink. \nAbout the Author:\nArthur Smith is one of the most daring\, creative\, and influential minds in nonfiction television\, producing and creating many shows including Hell’s Kitchen\, American Ninja Warrior\, and leading FOX Sports Net\, to name a few. His company has produced over two hundred television shows on more than fifty networks spanning across genres\, formats\, and platforms. In his book\, Reach\, Arthur Smith draws on the most exciting moments of his pioneering career as a producer to show how far you can go when you take risks\, stay goal oriented\, and reach for your dreams. \nRead more about the book HERE\nLearn more about the author HERE \n\nThis program is made possible by the JFO’s membership in Jewish Book Council\, with the support of the following JFO Foundation funds: Kenneth Ray Tretiak Memorial Fund\, Lois Jeanne Schrager Memorial Fund\, and Special Donor Advised Fund.
URL:https://www.jewishomaha.org/event/jewish-author-event/
LOCATION:Shirley & Leonard Goldstein Community Engagement Venue\, 333 S. 132nd St.\, Omaha\, NE\, 68154
ATTACH;FMTTYPE=image/jpeg:https://www.jewishomaha.org/wp-content/uploads/2024/02/2024-Jewish-Book-Month-Header2.jpg
END:VEVENT
END:VCALENDAR